BEGIN:VCALENDAR
VERSION:2.0
PRODID:-//MI Water Stewardship - ECPv6.15.20//NONSGML v1.0//EN
CALSCALE:GREGORIAN
METHOD:PUBLISH
X-WR-CALNAME:MI Water Stewardship
X-ORIGINAL-URL:https://miwaterstewardship.org
X-WR-CALDESC:Events for MI Water Stewardship
REFRESH-INTERVAL;VALUE=DURATION:PT1H
X-Robots-Tag:noindex
X-PUBLISHED-TTL:PT1H
BEGIN:VTIMEZONE
TZID:America/Detroit
BEGIN:DAYLIGHT
TZOFFSETFROM:-0500
TZOFFSETTO:-0400
TZNAME:EDT
DTSTART:20220313T070000
END:DAYLIGHT
BEGIN:STANDARD
TZOFFSETFROM:-0400
TZOFFSETTO:-0500
TZNAME:EST
DTSTART:20221106T060000
END:STANDARD
BEGIN:DAYLIGHT
TZOFFSETFROM:-0500
TZOFFSETTO:-0400
TZNAME:EDT
DTSTART:20230312T070000
END:DAYLIGHT
BEGIN:STANDARD
TZOFFSETFROM:-0400
TZOFFSETTO:-0500
TZNAME:EST
DTSTART:20231105T060000
END:STANDARD
BEGIN:DAYLIGHT
TZOFFSETFROM:-0500
TZOFFSETTO:-0400
TZNAME:EDT
DTSTART:20240310T070000
END:DAYLIGHT
BEGIN:STANDARD
TZOFFSETFROM:-0400
TZOFFSETTO:-0500
TZNAME:EST
DTSTART:20241103T060000
END:STANDARD
END:VTIMEZONE
BEGIN:VEVENT
DTSTART;TZID=America/Detroit:20230422T130000
DTEND;TZID=America/Detroit:20230422T160000
DTSTAMP:20260423T231038
CREATED:20230418T135844Z
LAST-MODIFIED:20230418T135844Z
UID:10000298-1682168400-1682179200@miwaterstewardship.org
SUMMARY:Earth Day Celebration 2023
DESCRIPTION:Join us on April 22nd 2023 from 1-4pm to celebrate Earth Day! This is a FREE event that is open to the public! Vendors from all over Jackson will be setting up fun and informational activities for the kiddos (and adults!). There will be live music\, FREE face painting\, and much more! We can’t wait to see you all there!
URL:https://miwaterstewardship.org/event/earth-day-celebration-2023/
LOCATION:Sparks Foundation County Park\, https://www.google.com/maps/dir/?api=1&destination=42.227808799054-84.432639385468&fbclid=IwAR0Ww9SNv3V8IPUg-zvrf27FYN2wOv4KXqVp3y1BRC0dCQbAbBJ9izKhTA4
END:VEVENT
END:VCALENDAR