BEGIN:VCALENDAR
VERSION:2.0
PRODID:-//MI Water Stewardship - ECPv6.15.20//NONSGML v1.0//EN
CALSCALE:GREGORIAN
METHOD:PUBLISH
X-WR-CALNAME:MI Water Stewardship
X-ORIGINAL-URL:https://miwaterstewardship.org
X-WR-CALDESC:Events for MI Water Stewardship
REFRESH-INTERVAL;VALUE=DURATION:PT1H
X-Robots-Tag:noindex
X-PUBLISHED-TTL:PT1H
BEGIN:VTIMEZONE
TZID:America/Detroit
BEGIN:DAYLIGHT
TZOFFSETFROM:-0500
TZOFFSETTO:-0400
TZNAME:EDT
DTSTART:20180311T070000
END:DAYLIGHT
BEGIN:STANDARD
TZOFFSETFROM:-0400
TZOFFSETTO:-0500
TZNAME:EST
DTSTART:20181104T060000
END:STANDARD
BEGIN:DAYLIGHT
TZOFFSETFROM:-0500
TZOFFSETTO:-0400
TZNAME:EDT
DTSTART:20190310T070000
END:DAYLIGHT
BEGIN:STANDARD
TZOFFSETFROM:-0400
TZOFFSETTO:-0500
TZNAME:EST
DTSTART:20191103T060000
END:STANDARD
BEGIN:DAYLIGHT
TZOFFSETFROM:-0500
TZOFFSETTO:-0400
TZNAME:EDT
DTSTART:20200308T070000
END:DAYLIGHT
BEGIN:STANDARD
TZOFFSETFROM:-0400
TZOFFSETTO:-0500
TZNAME:EST
DTSTART:20201101T060000
END:STANDARD
END:VTIMEZONE
BEGIN:VEVENT
DTSTART;TZID=America/Detroit:20190920T090000
DTEND;TZID=America/Detroit:20190920T120000
DTSTAMP:20260421T073138
CREATED:20190813T162530Z
LAST-MODIFIED:20190813T162530Z
UID:10000229-1568970000-1568980800@miwaterstewardship.org
SUMMARY:Second Sands Beach Cleanup Event
DESCRIPTION:Please dress appropriately and bring your own water bottle.\nMeetup Location:\n \nKBIC Natural Resources Department 14359 Pequaming Rd. L’Anse\, MI or email sdesrochers@kbic-nsn.gov to arrange a meeting location\n\nEvent Sponsors:\n \nKBIC/NRD
URL:https://miwaterstewardship.org/event/second-sands-beach-cleanup-event/
LOCATION:Second Sands Beach\, 2nd Sand Beach\, L'Anse\, MI\, 49946\, United States
END:VEVENT
END:VCALENDAR