BEGIN:VCALENDAR
VERSION:2.0
PRODID:-//MI Water Stewardship - ECPv6.15.20//NONSGML v1.0//EN
CALSCALE:GREGORIAN
METHOD:PUBLISH
X-WR-CALNAME:MI Water Stewardship
X-ORIGINAL-URL:https://miwaterstewardship.org
X-WR-CALDESC:Events for MI Water Stewardship
REFRESH-INTERVAL;VALUE=DURATION:PT1H
X-Robots-Tag:noindex
X-PUBLISHED-TTL:PT1H
BEGIN:VTIMEZONE
TZID:America/Detroit
BEGIN:DAYLIGHT
TZOFFSETFROM:-0500
TZOFFSETTO:-0400
TZNAME:EDT
DTSTART:20240310T070000
END:DAYLIGHT
BEGIN:STANDARD
TZOFFSETFROM:-0400
TZOFFSETTO:-0500
TZNAME:EST
DTSTART:20241103T060000
END:STANDARD
BEGIN:DAYLIGHT
TZOFFSETFROM:-0500
TZOFFSETTO:-0400
TZNAME:EDT
DTSTART:20250309T070000
END:DAYLIGHT
BEGIN:STANDARD
TZOFFSETFROM:-0400
TZOFFSETTO:-0500
TZNAME:EST
DTSTART:20251102T060000
END:STANDARD
BEGIN:DAYLIGHT
TZOFFSETFROM:-0500
TZOFFSETTO:-0400
TZNAME:EDT
DTSTART:20260308T070000
END:DAYLIGHT
BEGIN:STANDARD
TZOFFSETFROM:-0400
TZOFFSETTO:-0500
TZNAME:EST
DTSTART:20261101T060000
END:STANDARD
END:VTIMEZONE
BEGIN:VEVENT
DTSTART;TZID=America/Detroit:20250820T183000
DTEND;TZID=America/Detroit:20250820T193000
DTSTAMP:20260423T050724
CREATED:20250806T174730Z
LAST-MODIFIED:20250806T174906Z
UID:10000589-1755714600-1755718200@miwaterstewardship.org
SUMMARY:Trivia in the Watershed
DESCRIPTION:Join us for Trivia In The Watershed\, where we bring trivia to your section of the watershed! \nWe are headed back to River’s Edge Brewing Co. in Milford! Come out on August 20th and test your knowledge of the Huron River. Trivia questions will range from Huron River facts to general pop culture and current events. \nProceeds from the event will directly support the programs you love and allow us to continue fighting for a healthy Huron River. \nTicket purchase includes: \n\nOne complimentary beverage (draft beer or non-alcoholic)\nLight appetizers\nChance to win awesome prizes\nA complimentary 1-year membership to HRWC for new members\n\nGet Tickets Here!
URL:https://miwaterstewardship.org/event/trivia-in-the-watershed/
LOCATION:River’s Edge Brewing Co.\, 125 S Main St Suite 400\, Milford Charter Twp\, MI\, 48381\, United States
CATEGORIES:Educational Outreach
ATTACH;FMTTYPE=image/jpeg:https://miwaterstewardship.org/wp-content/uploads/2025/08/Trivia-in-the-Watershed.jpg
ORGANIZER;CN="Huron River Watershed Council":MAILTO:jfrenzel@hrwc.org
END:VEVENT
END:VCALENDAR