BEGIN:VCALENDAR
VERSION:2.0
PRODID:-//MI Water Stewardship - ECPv6.15.20//NONSGML v1.0//EN
CALSCALE:GREGORIAN
METHOD:PUBLISH
X-ORIGINAL-URL:https://miwaterstewardship.org
X-WR-CALDESC:Events for MI Water Stewardship
REFRESH-INTERVAL;VALUE=DURATION:PT1H
X-Robots-Tag:noindex
X-PUBLISHED-TTL:PT1H
BEGIN:VTIMEZONE
TZID:America/Detroit
BEGIN:DAYLIGHT
TZOFFSETFROM:-0500
TZOFFSETTO:-0400
TZNAME:EDT
DTSTART:20180311T070000
END:DAYLIGHT
BEGIN:STANDARD
TZOFFSETFROM:-0400
TZOFFSETTO:-0500
TZNAME:EST
DTSTART:20181104T060000
END:STANDARD
BEGIN:DAYLIGHT
TZOFFSETFROM:-0500
TZOFFSETTO:-0400
TZNAME:EDT
DTSTART:20190310T070000
END:DAYLIGHT
BEGIN:STANDARD
TZOFFSETFROM:-0400
TZOFFSETTO:-0500
TZNAME:EST
DTSTART:20191103T060000
END:STANDARD
BEGIN:DAYLIGHT
TZOFFSETFROM:-0500
TZOFFSETTO:-0400
TZNAME:EDT
DTSTART:20200308T070000
END:DAYLIGHT
BEGIN:STANDARD
TZOFFSETFROM:-0400
TZOFFSETTO:-0500
TZNAME:EST
DTSTART:20201101T060000
END:STANDARD
BEGIN:DAYLIGHT
TZOFFSETFROM:-0500
TZOFFSETTO:-0400
TZNAME:EDT
DTSTART:20210314T070000
END:DAYLIGHT
BEGIN:STANDARD
TZOFFSETFROM:-0400
TZOFFSETTO:-0500
TZNAME:EST
DTSTART:20211107T060000
END:STANDARD
BEGIN:DAYLIGHT
TZOFFSETFROM:-0500
TZOFFSETTO:-0400
TZNAME:EDT
DTSTART:20220313T070000
END:DAYLIGHT
BEGIN:STANDARD
TZOFFSETFROM:-0400
TZOFFSETTO:-0500
TZNAME:EST
DTSTART:20221106T060000
END:STANDARD
END:VTIMEZONE
BEGIN:VEVENT
DTSTART;TZID=America/Detroit:20210918T090000
DTEND;TZID=America/Detroit:20210918T120000
DTSTAMP:20260421T024711
CREATED:20210510T154544Z
LAST-MODIFIED:20210510T154544Z
UID:10000213-1631955600-1631966400@miwaterstewardship.org
SUMMARY:Douglas Beach to Oval Beach - Private Cleanup
DESCRIPTION:Meet at Oval Beach Parking lot to sign in\, get supplies and then depart for cleanup. Things to bring: gloves\, sunscreen\, bug spray\, Kitty Litter bucket with handle (only because they work best). Hat\, jacket etc\, depending on weather. Register here. 
URL:https://miwaterstewardship.org/event/douglas-beach-to-oval-beach-private-cleanup/
LOCATION:Oval Beach\, 690 Perryman St\, Saugatuk\, MI\, 49453\, United States
ORGANIZER;CN="Alliance for the Great Lakes":MAILTO:alliance@greatlakes.org
END:VEVENT
BEGIN:VEVENT
DTSTART;TZID=America/Detroit:20190921T100000
DTEND;TZID=America/Detroit:20190921T130000
DTSTAMP:20260421T024711
CREATED:20190813T153429Z
LAST-MODIFIED:20190813T153429Z
UID:10000190-1569060000-1569070800@miwaterstewardship.org
SUMMARY:Oval Beach Cleanup Event
DESCRIPTION:Come out and volunteer for a beach cleanup at Oval beach! Volunteers will meet at the Parking Lot Douglas Beach at 9:00 a.m.
URL:https://miwaterstewardship.org/event/oval-beach-cleanup-event/
LOCATION:Oval Beach\, 690 Perryman St\, Saugatuk\, MI\, 49453\, United States
END:VEVENT
END:VCALENDAR