BEGIN:VCALENDAR
VERSION:2.0
PRODID:-//MI Water Stewardship - ECPv6.15.20//NONSGML v1.0//EN
CALSCALE:GREGORIAN
METHOD:PUBLISH
X-ORIGINAL-URL:https://miwaterstewardship.org
X-WR-CALDESC:Events for MI Water Stewardship
REFRESH-INTERVAL;VALUE=DURATION:PT1H
X-Robots-Tag:noindex
X-PUBLISHED-TTL:PT1H
BEGIN:VTIMEZONE
TZID:America/Detroit
BEGIN:DAYLIGHT
TZOFFSETFROM:-0500
TZOFFSETTO:-0400
TZNAME:EDT
DTSTART:20210314T070000
END:DAYLIGHT
BEGIN:STANDARD
TZOFFSETFROM:-0400
TZOFFSETTO:-0500
TZNAME:EST
DTSTART:20211107T060000
END:STANDARD
BEGIN:DAYLIGHT
TZOFFSETFROM:-0500
TZOFFSETTO:-0400
TZNAME:EDT
DTSTART:20220313T070000
END:DAYLIGHT
BEGIN:STANDARD
TZOFFSETFROM:-0400
TZOFFSETTO:-0500
TZNAME:EST
DTSTART:20221106T060000
END:STANDARD
BEGIN:DAYLIGHT
TZOFFSETFROM:-0500
TZOFFSETTO:-0400
TZNAME:EDT
DTSTART:20230312T070000
END:DAYLIGHT
BEGIN:STANDARD
TZOFFSETFROM:-0400
TZOFFSETTO:-0500
TZNAME:EST
DTSTART:20231105T060000
END:STANDARD
END:VTIMEZONE
BEGIN:VEVENT
DTSTART;TZID=America/Detroit:20220604T110000
DTEND;TZID=America/Detroit:20220604T150000
DTSTAMP:20260423T111342
CREATED:20220426T213954Z
LAST-MODIFIED:20220531T193750Z
UID:10000160-1654340400-1654354800@miwaterstewardship.org
SUMMARY:Eaton Rapids River Clean-Up
DESCRIPTION:The annual Eaton Rapids River Clean-Up has been scheduled for Saturday\, June 4th\, 2022. \nMeet at the Mill Pointe Park Landing at 11:00 am. There will be a quick safety talk before setting off in the water. The group will paddle to Bunker Rd and scour the river for the usual “treasurers.” \nYou never know what you will find! \nThere will be a limited number of free boats provided by the Eaton Rapids Public Schools. Please bring a kayak\, canoe or whatever you want to paddle if available. A PFD\, paddle and food/beverage as well. \nIt usually takes about 2 or so hours to get to Bunker. There will be a “junk boat” to put the trash in. It’s always a good time and it benefits so many. \n 
URL:https://miwaterstewardship.org/event/eaton-rapids-river-clean-up/
LOCATION:Mill Pointe Park Landing\, N Main St N Main St\,\, Eaton Rapids\, 48827\, United States
ATTACH;FMTTYPE=image/jpeg:https://miwaterstewardship.org/wp-content/uploads/2022/04/Eaton-Rapids-Grand-River.jpg
END:VEVENT
END:VCALENDAR