BEGIN:VCALENDAR
VERSION:2.0
PRODID:-//MI Water Stewardship - ECPv6.15.20//NONSGML v1.0//EN
CALSCALE:GREGORIAN
METHOD:PUBLISH
X-ORIGINAL-URL:https://miwaterstewardship.org
X-WR-CALDESC:Events for MI Water Stewardship
REFRESH-INTERVAL;VALUE=DURATION:PT1H
X-Robots-Tag:noindex
X-PUBLISHED-TTL:PT1H
BEGIN:VTIMEZONE
TZID:America/Detroit
BEGIN:DAYLIGHT
TZOFFSETFROM:-0500
TZOFFSETTO:-0400
TZNAME:EDT
DTSTART:20230312T070000
END:DAYLIGHT
BEGIN:STANDARD
TZOFFSETFROM:-0400
TZOFFSETTO:-0500
TZNAME:EST
DTSTART:20231105T060000
END:STANDARD
BEGIN:DAYLIGHT
TZOFFSETFROM:-0500
TZOFFSETTO:-0400
TZNAME:EDT
DTSTART:20240310T070000
END:DAYLIGHT
BEGIN:STANDARD
TZOFFSETFROM:-0400
TZOFFSETTO:-0500
TZNAME:EST
DTSTART:20241103T060000
END:STANDARD
BEGIN:DAYLIGHT
TZOFFSETFROM:-0500
TZOFFSETTO:-0400
TZNAME:EDT
DTSTART:20250309T070000
END:DAYLIGHT
BEGIN:STANDARD
TZOFFSETFROM:-0400
TZOFFSETTO:-0500
TZNAME:EST
DTSTART:20251102T060000
END:STANDARD
END:VTIMEZONE
BEGIN:VEVENT
DTSTART;TZID=America/Detroit:20240810T090000
DTEND;TZID=America/Detroit:20240810T130000
DTSTAMP:20260422T093255
CREATED:20240731T172133Z
LAST-MODIFIED:20240731T172133Z
UID:10000382-1723280400-1723294800@miwaterstewardship.org
SUMMARY:Recycle Palooza 2024
DESCRIPTION:Recycle Palooza 2024 will be held in Charlotte on Saturday\, August 10th from 9am-1pm.  Eaton County residents are welcome to participate.  There is no cost for this event\, though a donation of $10 for TVs and monitors is strongly suggested. \nRegistration for this event is required. You may register until August 7\, 2024.  After registration is complete and your address has been verified\, a confirmation email will be sent to you with more detailed information regarding where the event is taking place\, how to pack your materials\, and participant safety requirements.  Register here. \nTo view a list of accepted items please check out this flyer. \nECDRR is always looking for volunteers to help make events and other recycling programs happen! There are only two restrictions: volunteers must be at least 16 years old and must have a volunteer application form on file (can be filled out the day of the event).  Click the link to sign up!
URL:https://miwaterstewardship.org/event/recycle-palooza-2024/
LOCATION:Location released upon completion of registration.\, Charlotte\, MI\, 48813
CATEGORIES:Recycling
ATTACH;FMTTYPE=image/jpeg:https://miwaterstewardship.org/wp-content/uploads/2024/07/ECDRR-Recycle-Palooza-1.jpg
END:VEVENT
END:VCALENDAR