BEGIN:VCALENDAR
VERSION:2.0
PRODID:-//MI Water Stewardship - ECPv6.15.20//NONSGML v1.0//EN
CALSCALE:GREGORIAN
METHOD:PUBLISH
X-ORIGINAL-URL:https://miwaterstewardship.org
X-WR-CALDESC:Events for MI Water Stewardship
REFRESH-INTERVAL;VALUE=DURATION:PT1H
X-Robots-Tag:noindex
X-PUBLISHED-TTL:PT1H
BEGIN:VTIMEZONE
TZID:America/Detroit
BEGIN:DAYLIGHT
TZOFFSETFROM:-0500
TZOFFSETTO:-0400
TZNAME:EDT
DTSTART:20220313T070000
END:DAYLIGHT
BEGIN:STANDARD
TZOFFSETFROM:-0400
TZOFFSETTO:-0500
TZNAME:EST
DTSTART:20221106T060000
END:STANDARD
BEGIN:DAYLIGHT
TZOFFSETFROM:-0500
TZOFFSETTO:-0400
TZNAME:EDT
DTSTART:20230312T070000
END:DAYLIGHT
BEGIN:STANDARD
TZOFFSETFROM:-0400
TZOFFSETTO:-0500
TZNAME:EST
DTSTART:20231105T060000
END:STANDARD
BEGIN:DAYLIGHT
TZOFFSETFROM:-0500
TZOFFSETTO:-0400
TZNAME:EDT
DTSTART:20240310T070000
END:DAYLIGHT
BEGIN:STANDARD
TZOFFSETFROM:-0400
TZOFFSETTO:-0500
TZNAME:EST
DTSTART:20241103T060000
END:STANDARD
END:VTIMEZONE
BEGIN:VEVENT
DTSTART;TZID=America/Detroit:20231213T083000
DTEND;TZID=America/Detroit:20231213T100000
DTSTAMP:20260422T131106
CREATED:20231130T144629Z
LAST-MODIFIED:20231130T144629Z
UID:10000343-1702456200-1702461600@miwaterstewardship.org
SUMMARY:Groundwater Management Board Annual Breakfast
DESCRIPTION:Groundwater Management Board (GMB) is hosting its 2023 Annual Breakfast as a thank you for all your hard work this year! \nJoin them on Wednesday\, December 13th from 8:30 to 10 a.m. in the Michigan Room of the Gannon building at the Downtown Lansing Community College campus to dine with members of the GMB and community partners\, go over GMB’s year-in-review\, hear from a special guest speaker\, and more. \nComplimentary breakfast will begin at 8:30 a.m. along with networking\, and the annual meeting to follow at 9 a.m. \nRegistration is required; RSVP by December 6th. Contact events@mitcrpc.org for assistance with registration or special accommodations. Requests for interpretation and assistance for persons with disabilities should be made at least five business days in advance of the meeting date. \nVisit www.mitcrpc.org/events-1/gmb-annual-breakfast to register.
URL:https://miwaterstewardship.org/event/groundwater-management-board-annual-breakfast/
LOCATION:Lansing Community College\, 600 N Grand Ave\, Lansing\, MI\, 48933
ATTACH;FMTTYPE=image/jpeg:https://miwaterstewardship.org/wp-content/uploads/2023/11/Groundwater-Management-Board-Annual-Breakfast.jpg
END:VEVENT
END:VCALENDAR