BEGIN:VCALENDAR
VERSION:2.0
PRODID:-//MI Water Stewardship - ECPv6.15.20//NONSGML v1.0//EN
CALSCALE:GREGORIAN
METHOD:PUBLISH
X-ORIGINAL-URL:https://miwaterstewardship.org
X-WR-CALDESC:Events for MI Water Stewardship
REFRESH-INTERVAL;VALUE=DURATION:PT1H
X-Robots-Tag:noindex
X-PUBLISHED-TTL:PT1H
BEGIN:VTIMEZONE
TZID:America/Detroit
BEGIN:DAYLIGHT
TZOFFSETFROM:-0500
TZOFFSETTO:-0400
TZNAME:EDT
DTSTART:20230312T070000
END:DAYLIGHT
BEGIN:STANDARD
TZOFFSETFROM:-0400
TZOFFSETTO:-0500
TZNAME:EST
DTSTART:20231105T060000
END:STANDARD
BEGIN:DAYLIGHT
TZOFFSETFROM:-0500
TZOFFSETTO:-0400
TZNAME:EDT
DTSTART:20240310T070000
END:DAYLIGHT
BEGIN:STANDARD
TZOFFSETFROM:-0400
TZOFFSETTO:-0500
TZNAME:EST
DTSTART:20241103T060000
END:STANDARD
BEGIN:DAYLIGHT
TZOFFSETFROM:-0500
TZOFFSETTO:-0400
TZNAME:EDT
DTSTART:20250309T070000
END:DAYLIGHT
BEGIN:STANDARD
TZOFFSETFROM:-0400
TZOFFSETTO:-0500
TZNAME:EST
DTSTART:20251102T060000
END:STANDARD
END:VTIMEZONE
BEGIN:VEVENT
DTSTART;VALUE=DATE:20240513
DTEND;VALUE=DATE:20240517
DTSTAMP:20260422T090251
CREATED:20231117T161938Z
LAST-MODIFIED:20231117T161938Z
UID:10000338-1715558400-1715903999@miwaterstewardship.org
SUMMARY:River Rally 2024
DESCRIPTION:River Network has hosted River Rally for decades\, bringing the network together for an infusion of learning\, inspiration\, and celebration. The joyful and deeply moving experience of River Rally combats feelings of isolation\, overwhelm\, and burnout for network members working at the intersection of water and justice by building knowledge and skills\, diversifying perspectives and solutions\, recognizing achievements within the network\, and strengthening connections. Built by and for the national network of water\, justice\, and river advocates\, River Rally ignites collective action and power for the work ahead. \nThe 25th River Rally will be an exciting time for the network to gather on the banks of the Grand River in Grand Rapids\, Michigan. Expect outstanding local field trips\, stimulating sessions\, amazing venues\, and opportunities to enjoy the riverfront with old and new friends from across the network. \nTo learn more\, visit www.rivernetwork.org/connect-learn/river-rally/.
URL:https://miwaterstewardship.org/event/river-rally-2024/
LOCATION:L.V. Eberhard Center\, 301 Fulton St W\, Grand Rapids\, MI\, 49504\, United States
ATTACH;FMTTYPE=image/png:https://miwaterstewardship.org/wp-content/uploads/2023/11/River-Rally-2024.png
END:VEVENT
END:VCALENDAR