BEGIN:VCALENDAR
VERSION:2.0
PRODID:-//MI Water Stewardship - ECPv6.15.20//NONSGML v1.0//EN
CALSCALE:GREGORIAN
METHOD:PUBLISH
X-ORIGINAL-URL:https://miwaterstewardship.org
X-WR-CALDESC:Events for MI Water Stewardship
REFRESH-INTERVAL;VALUE=DURATION:PT1H
X-Robots-Tag:noindex
X-PUBLISHED-TTL:PT1H
BEGIN:VTIMEZONE
TZID:America/Detroit
BEGIN:DAYLIGHT
TZOFFSETFROM:-0500
TZOFFSETTO:-0400
TZNAME:EDT
DTSTART:20220313T070000
END:DAYLIGHT
BEGIN:STANDARD
TZOFFSETFROM:-0400
TZOFFSETTO:-0500
TZNAME:EST
DTSTART:20221106T060000
END:STANDARD
BEGIN:DAYLIGHT
TZOFFSETFROM:-0500
TZOFFSETTO:-0400
TZNAME:EDT
DTSTART:20230312T070000
END:DAYLIGHT
BEGIN:STANDARD
TZOFFSETFROM:-0400
TZOFFSETTO:-0500
TZNAME:EST
DTSTART:20231105T060000
END:STANDARD
BEGIN:DAYLIGHT
TZOFFSETFROM:-0500
TZOFFSETTO:-0400
TZNAME:EDT
DTSTART:20240310T070000
END:DAYLIGHT
BEGIN:STANDARD
TZOFFSETFROM:-0400
TZOFFSETTO:-0500
TZNAME:EST
DTSTART:20241103T060000
END:STANDARD
END:VTIMEZONE
BEGIN:VEVENT
DTSTART;TZID=America/Detroit:20230728T090000
DTEND;TZID=America/Detroit:20230728T140000
DTSTAMP:20260422T195916
CREATED:20230721T142829Z
LAST-MODIFIED:20230721T142829Z
UID:10000316-1690534800-1690552800@miwaterstewardship.org
SUMMARY:Upper Manistee River Cleanup - Kalkaska County
DESCRIPTION:Come spend a day on the river with us! \nWe will be working with the Traverse Area Paddle Club to clean up the Manistee River from CR 612 to M-72. This event is BYOB (bring your own boat). We will meet at the bridge on CR 612 and pick up any trash in/along the river until we hit M-72. \nWe will provide grabber tools for the event\, but please also bring your own lunch\, sunscreen\, and whatever else you may need for the day. \nTo register\, visit: https://www.traverseareapaddleclub.org/content.aspx… \nReach out to nrfred@yahoo.com with any questions!
URL:https://miwaterstewardship.org/event/upper-manistee-river-cleanup-kalkaska-county/
LOCATION:Kalkaska Conservation District\, 406 S Cedar St a\, Kalkaska\, MI\, 49646\, United States
ATTACH;FMTTYPE=image/png:https://miwaterstewardship.org/wp-content/uploads/2023/07/Kalkaska.png
ORGANIZER;CN="Kalkaska Conservation District":MAILTO:RENEE.PENNY@MACD.ORG
END:VEVENT
END:VCALENDAR