BEGIN:VCALENDAR
VERSION:2.0
PRODID:-//MI Water Stewardship - ECPv6.15.20//NONSGML v1.0//EN
CALSCALE:GREGORIAN
METHOD:PUBLISH
X-ORIGINAL-URL:https://miwaterstewardship.org
X-WR-CALDESC:Events for MI Water Stewardship
REFRESH-INTERVAL;VALUE=DURATION:PT1H
X-Robots-Tag:noindex
X-PUBLISHED-TTL:PT1H
BEGIN:VTIMEZONE
TZID:America/Detroit
BEGIN:DAYLIGHT
TZOFFSETFROM:-0500
TZOFFSETTO:-0400
TZNAME:EDT
DTSTART:20180311T070000
END:DAYLIGHT
BEGIN:STANDARD
TZOFFSETFROM:-0400
TZOFFSETTO:-0500
TZNAME:EST
DTSTART:20181104T060000
END:STANDARD
BEGIN:DAYLIGHT
TZOFFSETFROM:-0500
TZOFFSETTO:-0400
TZNAME:EDT
DTSTART:20190310T070000
END:DAYLIGHT
BEGIN:STANDARD
TZOFFSETFROM:-0400
TZOFFSETTO:-0500
TZNAME:EST
DTSTART:20191103T060000
END:STANDARD
BEGIN:DAYLIGHT
TZOFFSETFROM:-0500
TZOFFSETTO:-0400
TZNAME:EDT
DTSTART:20200308T070000
END:DAYLIGHT
BEGIN:STANDARD
TZOFFSETFROM:-0400
TZOFFSETTO:-0500
TZNAME:EST
DTSTART:20201101T060000
END:STANDARD
END:VTIMEZONE
BEGIN:VEVENT
DTSTART;TZID=America/Detroit:20190920T130000
DTEND;TZID=America/Detroit:20190920T150000
DTSTAMP:20260425T003258
CREATED:20190807T194227Z
LAST-MODIFIED:20190807T194227Z
UID:10000184-1568984400-1568991600@miwaterstewardship.org
SUMMARY:Muskegon Lake-Lakeshore Drive Cleanup Event
DESCRIPTION:Join Darling Cetaceans as we clean up our local beach. Please come dressed for the weather and clothes that you might get dirty. We provide supplies but if you have your own gloves or grabbers you are welcome to bring them.\n\nMeetup Location:\n \nMeet at the City of Muskegon Jaycee Boat Launch on Lakeshore Drive. Just past the former Sappi Paper Mill site. **There is construction on Lakeshore Drive\, you are able to get to the site using Lakeshore Drive\, however leaving the site an alternative way will need to be used.
URL:https://miwaterstewardship.org/event/muskegon-lake-lakeshore-drive-cleanup-event/
LOCATION:Jaycee Boat Launch\, 2912 Lakeshore Dr\, Muskegon\, MI\, 49441\, United States
END:VEVENT
END:VCALENDAR