BEGIN:VCALENDAR
VERSION:2.0
PRODID:-//MI Water Stewardship - ECPv6.15.20//NONSGML v1.0//EN
CALSCALE:GREGORIAN
METHOD:PUBLISH
X-ORIGINAL-URL:https://miwaterstewardship.org
X-WR-CALDESC:Events for MI Water Stewardship
REFRESH-INTERVAL;VALUE=DURATION:PT1H
X-Robots-Tag:noindex
X-PUBLISHED-TTL:PT1H
BEGIN:VTIMEZONE
TZID:America/Detroit
BEGIN:DAYLIGHT
TZOFFSETFROM:-0500
TZOFFSETTO:-0400
TZNAME:EDT
DTSTART:20250309T070000
END:DAYLIGHT
BEGIN:STANDARD
TZOFFSETFROM:-0400
TZOFFSETTO:-0500
TZNAME:EST
DTSTART:20251102T060000
END:STANDARD
BEGIN:DAYLIGHT
TZOFFSETFROM:-0500
TZOFFSETTO:-0400
TZNAME:EDT
DTSTART:20260308T070000
END:DAYLIGHT
BEGIN:STANDARD
TZOFFSETFROM:-0400
TZOFFSETTO:-0500
TZNAME:EST
DTSTART:20261101T060000
END:STANDARD
BEGIN:DAYLIGHT
TZOFFSETFROM:-0500
TZOFFSETTO:-0400
TZNAME:EDT
DTSTART:20270314T070000
END:DAYLIGHT
BEGIN:STANDARD
TZOFFSETFROM:-0400
TZOFFSETTO:-0500
TZNAME:EST
DTSTART:20271107T060000
END:STANDARD
END:VTIMEZONE
BEGIN:VEVENT
DTSTART;TZID=America/Detroit:20260207T100000
DTEND;TZID=America/Detroit:20260207T140000
DTSTAMP:20260424T114322
CREATED:20260129T134920Z
LAST-MODIFIED:20260129T134920Z
UID:10000638-1770458400-1770472800@miwaterstewardship.org
SUMMARY:Jackson CD Winter Stonefly Hunt
DESCRIPTION:Come join us at for a Winter Stonefly Hunt! During this event we will search for stoneflies in our local rivers and streams. Stoneflies appear during the winter and require oxygen-rich waters to survive. They are also intolerant of pollution\, which makes them a great indicator of the water quality in our area. \nThe Winter Stonefly Hunt will be on Saturday\, February 7th from 10am to 2pm. Volunteers will help us look for stoneflies by stepping into a pair of waders to search in the water\, or by helping sort samples on the streambank (or both). No experience is necessary\, as we will provide some quick training and equipment. \nKids are welcome to attend as long as they are accompanied by an adult. \nWe will meet in the JCCD office at 211 W Ganson St\, Suite 200 Jackson MI 49201. Depending on the size of our group we will cover two sites OR split into two different groups and cover four sites. \nIf you would like to attend this Winter Stonefly Hunt\, please email colten@macd.org!
URL:https://miwaterstewardship.org/event/jackson-cd-winter-stonefly-hunt/
LOCATION:Jackson Conservation District\, 211 West Ganson St\, Suite 200\, Jackson\, MI\, 49201\, United States
CATEGORIES:Stream Monitoring
ATTACH;FMTTYPE=image/png:https://miwaterstewardship.org/wp-content/uploads/2026/01/Jackson-CD-Winter-Stonefly.png
END:VEVENT
END:VCALENDAR