BEGIN:VCALENDAR
VERSION:2.0
PRODID:-//MI Water Stewardship - ECPv6.15.20//NONSGML v1.0//EN
CALSCALE:GREGORIAN
METHOD:PUBLISH
X-ORIGINAL-URL:https://miwaterstewardship.org
X-WR-CALDESC:Events for MI Water Stewardship
REFRESH-INTERVAL;VALUE=DURATION:PT1H
X-Robots-Tag:noindex
X-PUBLISHED-TTL:PT1H
BEGIN:VTIMEZONE
TZID:America/Detroit
BEGIN:DAYLIGHT
TZOFFSETFROM:-0500
TZOFFSETTO:-0400
TZNAME:EDT
DTSTART:20240310T070000
END:DAYLIGHT
BEGIN:STANDARD
TZOFFSETFROM:-0400
TZOFFSETTO:-0500
TZNAME:EST
DTSTART:20241103T060000
END:STANDARD
BEGIN:DAYLIGHT
TZOFFSETFROM:-0500
TZOFFSETTO:-0400
TZNAME:EDT
DTSTART:20250309T070000
END:DAYLIGHT
BEGIN:STANDARD
TZOFFSETFROM:-0400
TZOFFSETTO:-0500
TZNAME:EST
DTSTART:20251102T060000
END:STANDARD
BEGIN:DAYLIGHT
TZOFFSETFROM:-0500
TZOFFSETTO:-0400
TZNAME:EDT
DTSTART:20260308T070000
END:DAYLIGHT
BEGIN:STANDARD
TZOFFSETFROM:-0400
TZOFFSETTO:-0500
TZNAME:EST
DTSTART:20261101T060000
END:STANDARD
END:VTIMEZONE
BEGIN:VEVENT
DTSTART;TZID=America/Detroit:20250425T090000
DTEND;TZID=America/Detroit:20250426T160000
DTSTAMP:20260423T111747
CREATED:20250402T170048Z
LAST-MODIFIED:20250424T140809Z
UID:10000495-1745571600-1745683200@miwaterstewardship.org
SUMMARY:Earth Fair 2025
DESCRIPTION:By blending together demonstrations\, workshops\, exhibits\, artisans\, and activities\, Earth Fair focuses on raising the level and capacity of environmental stewards to the thousands of visitors who take part in Michigan’s largest Earth Day event. We are passionate about creating an environment at Earth Fair that’s fun for everyone; visitors of all ages learn how their actions impact our local environment and the significant role we play in the health of our economy and ecosystem. We’re inspiring and challenging citizens to find alternatives to energy\, transportation\, food\, living and gardening so a better earth can be created because\, as we all know\, our environment is a direct reflection on how we live. \nYour adventure into a celebration of Earth Day begins at the gate where you will be assisted with parking and given a guide to the exhibits and activities. Don’t forget spending money because Earth Fair can be a significant source of funding for the grassroots non-profits and local businesses. Plan on starting early for a fun-filled day at Earth Fair! \nLearn more at https://earthdayfair.com/.
URL:https://miwaterstewardship.org/event/earth-fair-2025/
LOCATION:Goodells County Park\, 8264 County Park Dr\, Goodells\, MI\, 48027\, United States
CATEGORIES:Celebration,Educational Outreach,Workshop
ATTACH;FMTTYPE=image/jpeg:https://miwaterstewardship.org/wp-content/uploads/2025/04/Earth-Fair-Stacked-Logo.jpg
ORGANIZER;CN="Blue Water Conservation District":MAILTO:bluewatercd@gmail.com
END:VEVENT
END:VCALENDAR