BEGIN:VCALENDAR
VERSION:2.0
PRODID:-//MI Water Stewardship - ECPv6.15.20//NONSGML v1.0//EN
CALSCALE:GREGORIAN
METHOD:PUBLISH
X-ORIGINAL-URL:https://miwaterstewardship.org
X-WR-CALDESC:Events for MI Water Stewardship
REFRESH-INTERVAL;VALUE=DURATION:PT1H
X-Robots-Tag:noindex
X-PUBLISHED-TTL:PT1H
BEGIN:VTIMEZONE
TZID:America/Detroit
BEGIN:DAYLIGHT
TZOFFSETFROM:-0500
TZOFFSETTO:-0400
TZNAME:EDT
DTSTART:20230312T070000
END:DAYLIGHT
BEGIN:STANDARD
TZOFFSETFROM:-0400
TZOFFSETTO:-0500
TZNAME:EST
DTSTART:20231105T060000
END:STANDARD
BEGIN:DAYLIGHT
TZOFFSETFROM:-0500
TZOFFSETTO:-0400
TZNAME:EDT
DTSTART:20240310T070000
END:DAYLIGHT
BEGIN:STANDARD
TZOFFSETFROM:-0400
TZOFFSETTO:-0500
TZNAME:EST
DTSTART:20241103T060000
END:STANDARD
BEGIN:DAYLIGHT
TZOFFSETFROM:-0500
TZOFFSETTO:-0400
TZNAME:EDT
DTSTART:20250309T070000
END:DAYLIGHT
BEGIN:STANDARD
TZOFFSETFROM:-0400
TZOFFSETTO:-0500
TZNAME:EST
DTSTART:20251102T060000
END:STANDARD
END:VTIMEZONE
BEGIN:VEVENT
DTSTART;TZID=America/Detroit:20240601T100000
DTEND;TZID=America/Detroit:20240601T150000
DTSTAMP:20260424T114447
CREATED:20240513T191104Z
LAST-MODIFIED:20240513T191104Z
UID:10000370-1717236000-1717254000@miwaterstewardship.org
SUMMARY:Sturgeon Fest 2024
DESCRIPTION:Did you know fish six feet long and one hundred years old are swimming Lake Huron\, the St. Clair River and Lake St. Clair? There are fewer Lake sturgeon today than a century ago because they’re a threatened species\, but of the sturgeon still roaming the Great Lakes\, most of them are in the St. Clair River. Over 10\,000 Lake Sturgeon call underneath the Blue Water Bridges home which makes it possible to see these gentle giants at our Blue Water Sturgeon Festival! \nVisitors can experience a close encounter with the Great Lakes’ largest fish with a live sturgeon touch tank\, hands-on activities\, workshops\, Native American drum ceremony\, food\, music and more. Festival parking\, admission and activities are free. \nSturgeon Festival also offers an exclusive experience with these giants aboard Port Huron’s premier sightseeing boat\, The Huron Lady. Throughout this expertly narrated cruise\, you can ask questions to the biologists who study Lake Sturgeon\, learn about the latest Great Lakes sturgeon research\, and watch live sturgeon research activities under the Blue Water Bridges. The Huron Lady Sturgeon Cruises are at 11am and 1pm\, and tickets are available at huronlady.com. \nAffectionately known as the “Gentle Giant of the Great Lakes”\, Lake Sturgeon are phenomenal to see up close. They can weigh up to 150 pounds\, grow over 7 feet\, and live over 100 years. Once on the brink of extinction and added to Michigan’s Threatened Species list\, Lake Sturgeon are making a comeback and have become a spotlight species for the habitat restoration work completed in the St. Clair River. \nSince the Sturgeon Festival was hatched in 2014\, Friends of the St. Clair River has been highlighting the fascinating story of this ancient fish – a mascot for the Great Lakes recovery. The Blue Water Sturgeon Festival is our largest annual fundraiser and funds raised during the festival support our education and conservation programs. \n\n\n\n\n\n\nEVENT CONSIDERATIONS \n\nLighthouse Park is smoke-free\nBring cash for food and merchandise\, there is no ATM on-site\nLighthouse Climb tickets are $5 and can be purchased on-site from the Port Huron Museum\nLighthouse Park and Beach are open. The Lighthouse Beach parking lot charge is $5
URL:https://miwaterstewardship.org/event/sturgeon-fest-2024/
LOCATION:Fort Gratiot Lighthouse Park\, 2900 Conger St\, Port Huron\, MI\, 48060\, United States
ATTACH;FMTTYPE=image/jpeg:https://miwaterstewardship.org/wp-content/uploads/2024/05/Sturgeon-Fest-2024.jpg
ORGANIZER;CN="Friends of the St. Clair River":MAILTO:sheri@scriver.org
END:VEVENT
END:VCALENDAR