BEGIN:VCALENDAR
VERSION:2.0
PRODID:-//MI Water Stewardship - ECPv6.15.20//NONSGML v1.0//EN
CALSCALE:GREGORIAN
METHOD:PUBLISH
X-WR-CALNAME:MI Water Stewardship
X-ORIGINAL-URL:https://miwaterstewardship.org
X-WR-CALDESC:Events for MI Water Stewardship
REFRESH-INTERVAL;VALUE=DURATION:PT1H
X-Robots-Tag:noindex
X-PUBLISHED-TTL:PT1H
BEGIN:VTIMEZONE
TZID:America/Detroit
BEGIN:DAYLIGHT
TZOFFSETFROM:-0500
TZOFFSETTO:-0400
TZNAME:EDT
DTSTART:20250309T070000
END:DAYLIGHT
BEGIN:STANDARD
TZOFFSETFROM:-0400
TZOFFSETTO:-0500
TZNAME:EST
DTSTART:20251102T060000
END:STANDARD
BEGIN:DAYLIGHT
TZOFFSETFROM:-0500
TZOFFSETTO:-0400
TZNAME:EDT
DTSTART:20260308T070000
END:DAYLIGHT
BEGIN:STANDARD
TZOFFSETFROM:-0400
TZOFFSETTO:-0500
TZNAME:EST
DTSTART:20261101T060000
END:STANDARD
BEGIN:DAYLIGHT
TZOFFSETFROM:-0500
TZOFFSETTO:-0400
TZNAME:EDT
DTSTART:20270314T070000
END:DAYLIGHT
BEGIN:STANDARD
TZOFFSETFROM:-0400
TZOFFSETTO:-0500
TZNAME:EST
DTSTART:20271107T060000
END:STANDARD
END:VTIMEZONE
BEGIN:VEVENT
DTSTART;TZID=America/Detroit:20260426T140000
DTEND;TZID=America/Detroit:20260426T160000
DTSTAMP:20260421T072358
CREATED:20260225T163829Z
LAST-MODIFIED:20260225T163829Z
UID:10000657-1777212000-1777219200@miwaterstewardship.org
SUMMARY:The Hidden Stories of Fair Lane’s Restoration
DESCRIPTION:As we celebrate 40 years of restoring\, protecting\, and enhancing the Rouge River watershed\, we invite you to join us for our 2026 Speaker Series— A River of Knowledge with afternoons of learning\, connection\, and inspiration. \nThe Hidden Stories of Fair Lane’s Restoration – April 26\, 2026 \nJoin us for a captivating presentation with Austin Eighmey\, Director of Historic Resources at Fair Lane Estate\, as he shares the remarkable and meticulous process of restoring the Estate complete with its challenges and triumphs. \nTogether\, we’ll enjoy an insider’s look at the care\, creativity\, and dedication it took to bring this beloved landmark back to its former glory. \n$20 General ticket includes: an afternoon of learning with a 60min presentation\, conversation\, and connection with light refreshments and wonderful Friends! \nPurchase your tickets HERE.
URL:https://miwaterstewardship.org/event/the-hidden-stories-of-fair-lanes-restoration/
LOCATION:Fair Lane: Home of Clara and Henry Ford\, 1 Fair Ln Dr\, Dearborn\, MI\, 48128\, United States
CATEGORIES:Educational Outreach
ATTACH;FMTTYPE=image/jpeg:https://miwaterstewardship.org/wp-content/uploads/2026/02/2026_speaker_series_River-of-Knowledge.jpg
ORGANIZER;CN="Friends of the Rouge River":MAILTO:friends@therouge.org
END:VEVENT
END:VCALENDAR