BEGIN:VCALENDAR
VERSION:2.0
PRODID:-//MI Water Stewardship - ECPv6.15.20//NONSGML v1.0//EN
CALSCALE:GREGORIAN
METHOD:PUBLISH
X-ORIGINAL-URL:https://miwaterstewardship.org
X-WR-CALDESC:Events for MI Water Stewardship
REFRESH-INTERVAL;VALUE=DURATION:PT1H
X-Robots-Tag:noindex
X-PUBLISHED-TTL:PT1H
BEGIN:VTIMEZONE
TZID:America/Detroit
BEGIN:DAYLIGHT
TZOFFSETFROM:-0500
TZOFFSETTO:-0400
TZNAME:EDT
DTSTART:20250309T070000
END:DAYLIGHT
BEGIN:STANDARD
TZOFFSETFROM:-0400
TZOFFSETTO:-0500
TZNAME:EST
DTSTART:20251102T060000
END:STANDARD
BEGIN:DAYLIGHT
TZOFFSETFROM:-0500
TZOFFSETTO:-0400
TZNAME:EDT
DTSTART:20260308T070000
END:DAYLIGHT
BEGIN:STANDARD
TZOFFSETFROM:-0400
TZOFFSETTO:-0500
TZNAME:EST
DTSTART:20261101T060000
END:STANDARD
BEGIN:DAYLIGHT
TZOFFSETFROM:-0500
TZOFFSETTO:-0400
TZNAME:EDT
DTSTART:20270314T070000
END:DAYLIGHT
BEGIN:STANDARD
TZOFFSETFROM:-0400
TZOFFSETTO:-0500
TZNAME:EST
DTSTART:20271107T060000
END:STANDARD
END:VTIMEZONE
BEGIN:VEVENT
DTSTART;TZID=America/Detroit:20260118T140000
DTEND;TZID=America/Detroit:20260118T160000
DTSTAMP:20260421T085346
CREATED:20251218T145202Z
LAST-MODIFIED:20251218T145202Z
UID:10000619-1768744800-1768752000@miwaterstewardship.org
SUMMARY:Creating a Fish Expressway
DESCRIPTION:A River of Knowledge: 2026 Quarterly Speaker Series\nTickets are $20 per presentation and include admission to that session along with light refreshments. \nEach gathering brings together passionate speakers and curious minds\, offering a chance to deepen your shared commitment to the Rouge River. \nCome as you are—business casual attire fits the spirit of the day. Let’s gather by the river\, learn together\, and celebrate the journey ahead. \nCreating a Fish Expressway – January 18\, 2-4 pm\nJoin fish expert Bob Muller for an engaging look at the Ford Fair Lane Estate Fishway in Dearborn. \nDiscover how this innovative project restored fish passage around Henry Ford’s historic dam\, reconnecting the Rouge River for the first time in over 100 years.  From its history to its lasting ecological impact\, this inspiring story shows how one project is revitalizing a river and its wildlife. \nCost is $20.  Get your tickets HERE.
URL:https://miwaterstewardship.org/event/creating-a-fish-expressway/
LOCATION:Fair Lane: Home of Clara and Henry Ford\, 1 Fair Ln Dr\, Dearborn\, MI\, 48128\, United States
ATTACH;FMTTYPE=image/png:https://miwaterstewardship.org/wp-content/uploads/2025/12/River-of-Knowledge-Speaker-Series-2026-2.png
ORGANIZER;CN="Friends of the Rouge River":MAILTO:friends@therouge.org
END:VEVENT
END:VCALENDAR