BEGIN:VCALENDAR
VERSION:2.0
PRODID:-//MI Water Stewardship - ECPv6.15.20//NONSGML v1.0//EN
CALSCALE:GREGORIAN
METHOD:PUBLISH
X-WR-CALNAME:MI Water Stewardship
X-ORIGINAL-URL:https://miwaterstewardship.org
X-WR-CALDESC:Events for MI Water Stewardship
REFRESH-INTERVAL;VALUE=DURATION:PT1H
X-Robots-Tag:noindex
X-PUBLISHED-TTL:PT1H
BEGIN:VTIMEZONE
TZID:America/Detroit
BEGIN:DAYLIGHT
TZOFFSETFROM:-0500
TZOFFSETTO:-0400
TZNAME:EDT
DTSTART:20240310T070000
END:DAYLIGHT
BEGIN:STANDARD
TZOFFSETFROM:-0400
TZOFFSETTO:-0500
TZNAME:EST
DTSTART:20241103T060000
END:STANDARD
BEGIN:DAYLIGHT
TZOFFSETFROM:-0500
TZOFFSETTO:-0400
TZNAME:EDT
DTSTART:20250309T070000
END:DAYLIGHT
BEGIN:STANDARD
TZOFFSETFROM:-0400
TZOFFSETTO:-0500
TZNAME:EST
DTSTART:20251102T060000
END:STANDARD
BEGIN:DAYLIGHT
TZOFFSETFROM:-0500
TZOFFSETTO:-0400
TZNAME:EDT
DTSTART:20260308T070000
END:DAYLIGHT
BEGIN:STANDARD
TZOFFSETFROM:-0400
TZOFFSETTO:-0500
TZNAME:EST
DTSTART:20261101T060000
END:STANDARD
END:VTIMEZONE
BEGIN:VEVENT
DTSTART;TZID=America/Detroit:20250418T120000
DTEND;TZID=America/Detroit:20250418T140000
DTSTAMP:20260422T145853
CREATED:20250402T152246Z
LAST-MODIFIED:20250402T152246Z
UID:10000493-1744977600-1744984800@miwaterstewardship.org
SUMMARY:Raingarden Workday
DESCRIPTION:Friends of the St. Clair River: Raingarden Workday \nWe need your help to plant native shrubs in a Port Huron Township Community Rain Garden!  This garden helps absorb rainwater\, prevent flooding\, and create a beautiful habitat for birds and pollinators. Let’s dig in together and make a difference! \nJoin us on Friday\, April 18 from 12-2pm at the Buckingham Rain Garden located at 4602 Buckingham Drive off West Water Street in Port Huron Township. \nNo experience? No problem! We’ll provide guidance and all the plants. Just bring your enthusiasm and willingness to get your hands a little dirty!  \nQuestions? Contact Lynnea McFadden at Lynnea@scriver.org. \nLearn more and sign up to attend HERE.
URL:https://miwaterstewardship.org/event/raingarden-workday/
LOCATION:Buckingham Rain Garden\, 4602 Buckingham Dr\, Port Huron\, MI\, 48060\, United States
CATEGORIES:Planting
ATTACH;FMTTYPE=image/jpeg:https://miwaterstewardship.org/wp-content/uploads/2025/04/FOTSCR-Raingarden-Workday.jpg
ORGANIZER;CN="Friends of the St. Clair River":MAILTO:sheri@scriver.org
END:VEVENT
END:VCALENDAR