BEGIN:VCALENDAR
VERSION:2.0
PRODID:-//MI Water Stewardship - ECPv6.15.20//NONSGML v1.0//EN
CALSCALE:GREGORIAN
METHOD:PUBLISH
X-ORIGINAL-URL:https://miwaterstewardship.org
X-WR-CALDESC:Events for MI Water Stewardship
REFRESH-INTERVAL;VALUE=DURATION:PT1H
X-Robots-Tag:noindex
X-PUBLISHED-TTL:PT1H
BEGIN:VTIMEZONE
TZID:America/Detroit
BEGIN:DAYLIGHT
TZOFFSETFROM:-0500
TZOFFSETTO:-0400
TZNAME:EDT
DTSTART:20240310T070000
END:DAYLIGHT
BEGIN:STANDARD
TZOFFSETFROM:-0400
TZOFFSETTO:-0500
TZNAME:EST
DTSTART:20241103T060000
END:STANDARD
BEGIN:DAYLIGHT
TZOFFSETFROM:-0500
TZOFFSETTO:-0400
TZNAME:EDT
DTSTART:20250309T070000
END:DAYLIGHT
BEGIN:STANDARD
TZOFFSETFROM:-0400
TZOFFSETTO:-0500
TZNAME:EST
DTSTART:20251102T060000
END:STANDARD
BEGIN:DAYLIGHT
TZOFFSETFROM:-0500
TZOFFSETTO:-0400
TZNAME:EDT
DTSTART:20260308T070000
END:DAYLIGHT
BEGIN:STANDARD
TZOFFSETFROM:-0400
TZOFFSETTO:-0500
TZNAME:EST
DTSTART:20261101T060000
END:STANDARD
END:VTIMEZONE
BEGIN:VEVENT
DTSTART;TZID=America/Detroit:20250510T090000
DTEND;TZID=America/Detroit:20250510T140000
DTSTAMP:20260422T233737
CREATED:20250410T181755Z
LAST-MODIFIED:20250410T181755Z
UID:10000507-1746867600-1746885600@miwaterstewardship.org
SUMMARY:Volunteer Stream Monitoring Program
DESCRIPTION:Volunteers needed! Join us to collect samples of aquatic insects\, snails\, and algae from local rivers\, and learn what they reveal about water quality. When you participate in our biannual Volunteer Stream Monitoring Program\, you’ll spend a morning “in the field” as a community scientist by gathering indicator species (insects that help us study water quality) and looking for invasive species like New Zealand Mudsnails and Didymo. No experience required! You may volunteer from the shore or in the stream\, and we can provide waders if needed. \nTo prepare: please arrive at our office a few minutes early\, bring your own water\, and be prepared to work outdoors in or around water. If you need to borrow waders\, please let us know what boot size. Lunch is provided! \nREGISTRATION IS REQUIRED. To register\, contact John Ransom at john@benziecd.org or 231-882-4391 x 13. 
URL:https://miwaterstewardship.org/event/volunteer-stream-monitoring-program/
LOCATION:Benzie Conservation District\, 280 S. Benzie Blvd\, Beulah\, MI\, 49617\, United States
CATEGORIES:Stream Monitoring
ATTACH;FMTTYPE=image/jpeg:https://miwaterstewardship.org/wp-content/uploads/2025/04/Benzie-CD-Stream-Monitoring-2025.jpg
ORGANIZER;CN="Benzie Conservation District":MAILTO:info@benziecd.org
END:VEVENT
BEGIN:VEVENT
DTSTART;TZID=America/Detroit:20250426T100000
DTEND;TZID=America/Detroit:20250426T140000
DTSTAMP:20260422T233737
CREATED:20250403T143056Z
LAST-MODIFIED:20250403T143056Z
UID:10000497-1745661600-1745676000@miwaterstewardship.org
SUMMARY:Vernal Pool Patrol Field Training
DESCRIPTION:Please join us for Vernal Pool Patrol Field Training with Benzie Conservation District and Michigan Vernal Pool Patrol\, on April 26\, 2025\, 10am-2pm. We’ll meet at the BCD office (280 S. Benzie Blvd\, Beulah\, MI 49617) and take a field trip to Platte River Park (2851 Indian Hill\, Honor\, MI 49640). Thank you for your interest in monitoring these amazing ecosystems!\n\nWhat to expect and how to prepare:\n\n\nAttendees must complete the free Michigan Vernal Pool Virtual Training Series before the event. You may either attend virtually (learn more and register here) or view past recordings/homework at this link.\nThe April 26 field training event will take place in our office and in the field. Please come prepared for both indoor and outdoor conditions (including a hike through the woods) and bring your own water and lunch. Please arrive at our office a few minutes before 10am.\nIf this event is cancelled\, we will contact you by email.\nFor any questions\, please contact Jodi Monteith\, BCD’s Conservation Technician\, at jodi@benziecd.org.\n\n\nRegister for this free event HERE.
URL:https://miwaterstewardship.org/event/vernal-pool-patrol-field-training/
LOCATION:Benzie Conservation District\, 280 S. Benzie Blvd\, Beulah\, MI\, 49617\, United States
CATEGORIES:Vernal Pool Monitoring
ATTACH;FMTTYPE=image/jpeg:https://miwaterstewardship.org/wp-content/uploads/2025/04/Benzie-CD-Vernal-Pool-Patrol.jpg
ORGANIZER;CN="Benzie Conservation District":MAILTO:info@benziecd.org
END:VEVENT
END:VCALENDAR