BEGIN:VCALENDAR
VERSION:2.0
PRODID:-//MI Water Stewardship - ECPv6.15.20//NONSGML v1.0//EN
CALSCALE:GREGORIAN
METHOD:PUBLISH
X-WR-CALNAME:MI Water Stewardship
X-ORIGINAL-URL:https://miwaterstewardship.org
X-WR-CALDESC:Events for MI Water Stewardship
REFRESH-INTERVAL;VALUE=DURATION:PT1H
X-Robots-Tag:noindex
X-PUBLISHED-TTL:PT1H
BEGIN:VTIMEZONE
TZID:America/Detroit
BEGIN:DAYLIGHT
TZOFFSETFROM:-0500
TZOFFSETTO:-0400
TZNAME:EDT
DTSTART:20230312T070000
END:DAYLIGHT
BEGIN:STANDARD
TZOFFSETFROM:-0400
TZOFFSETTO:-0500
TZNAME:EST
DTSTART:20231105T060000
END:STANDARD
BEGIN:DAYLIGHT
TZOFFSETFROM:-0500
TZOFFSETTO:-0400
TZNAME:EDT
DTSTART:20240310T070000
END:DAYLIGHT
BEGIN:STANDARD
TZOFFSETFROM:-0400
TZOFFSETTO:-0500
TZNAME:EST
DTSTART:20241103T060000
END:STANDARD
BEGIN:DAYLIGHT
TZOFFSETFROM:-0500
TZOFFSETTO:-0400
TZNAME:EDT
DTSTART:20250309T070000
END:DAYLIGHT
BEGIN:STANDARD
TZOFFSETFROM:-0400
TZOFFSETTO:-0500
TZNAME:EST
DTSTART:20251102T060000
END:STANDARD
END:VTIMEZONE
BEGIN:VEVENT
DTSTART;TZID=America/Detroit:20240817T093000
DTEND;TZID=America/Detroit:20240817T120000
DTSTAMP:20260422T055630
CREATED:20240815T164632Z
LAST-MODIFIED:20240815T164632Z
UID:10000390-1723887000-1723896000@miwaterstewardship.org
SUMMARY:Belle Isle Cleanup
DESCRIPTION:In partnership with the Belle Isle Conservancy and their Keep Belle Isle Beautiful initiative\, Friends of the Detroit River will be hosting a cleanup on the canals of Belle Isle. Some kayaks will be provided on a first come basis\, otherwise participants are encouraged to bring their own. If you prefer to cleanup on land\, there will be areas for you to do so! \nCleanups are free\, family-friendly events\, welcoming volunteers of all ages! No RSVP is needed\, however\, volunteer waivers are required. Please dress for the weather predicted that day and bring a reusable water bottle. \nVolunteers are to check in at the Belle Isle Aquarium at 9:30 am. \n 
URL:https://miwaterstewardship.org/event/belle-isle-cleanup-3/
LOCATION:Belle Isle Aquarium\, 3 Inselruhe Ave\, Detroit\, MI\, 48207\, United States
CATEGORIES:River Clean Up
ATTACH;FMTTYPE=image/png:https://miwaterstewardship.org/wp-content/uploads/2024/05/FDR-Belle-Isle-Cleanup.png
ORGANIZER;CN="Friends of the Detroit River":MAILTO:river@detroitriver.org
END:VEVENT
BEGIN:VEVENT
DTSTART;TZID=America/Detroit:20240615T093000
DTEND;TZID=America/Detroit:20240615T120000
DTSTAMP:20260422T055630
CREATED:20240513T191304Z
LAST-MODIFIED:20240613T140824Z
UID:10000371-1718443800-1718452800@miwaterstewardship.org
SUMMARY:Belle Isle Cleanup
DESCRIPTION:In partnership with the Belle Isle Conservancy and their Keep Belle Isle Beautiful initiative\, Friends of the Detroit River will be hosting a cleanup on the canals of Belle Isle. Some kayaks will be provided on a first come basis\, otherwise participants are encouraged to bring their own. If you prefer to cleanup on land\, there will be areas for you to do so! \nCleanups are free\, family-friendly events\, welcoming volunteers of all ages! No RSVP is needed\, however\, volunteer waivers are required. Please dress for the weather predicted that day and bring a reusable water bottle. \nVolunteers are to check in at the Belle Isle Aquarium at 9:30 am. \n 
URL:https://miwaterstewardship.org/event/belle-isle-cleanup-2/
LOCATION:Belle Isle Aquarium\, 3 Inselruhe Ave\, Detroit\, MI\, 48207\, United States
CATEGORIES:River Clean Up
ATTACH;FMTTYPE=image/png:https://miwaterstewardship.org/wp-content/uploads/2024/05/FDR-Belle-Isle-Cleanup.png
ORGANIZER;CN="Friends of the Detroit River":MAILTO:river@detroitriver.org
END:VEVENT
BEGIN:VEVENT
DTSTART;TZID=America/Detroit:20240518T093000
DTEND;TZID=America/Detroit:20240518T120000
DTSTAMP:20260422T055630
CREATED:20240513T183813Z
LAST-MODIFIED:20240513T183813Z
UID:10000367-1716024600-1716033600@miwaterstewardship.org
SUMMARY:Belle Isle Cleanup
DESCRIPTION:In partnership with the Belle Isle Conservancy and their Keep Belle Isle Beautiful initiative\, Friends of the Detroit River will be hosting a cleanup on the canals of Belle Isle. Some kayaks will be provided on a first come basis\, otherwise participants are encouraged to bring their own. If you prefer to cleanup on land\, there will be areas for you to do so! \nCleanups are free\, family-friendly events\, welcoming volunteers of all ages! No RSVP is needed\, however\, volunteer waivers are required. Please dress for the weather predicted that day and bring a reusable water bottle. \nVolunteers are to check in at the Belle Isle Aquarium at 9:30 am. \n 
URL:https://miwaterstewardship.org/event/belle-isle-cleanup/
LOCATION:Belle Isle Aquarium\, 3 Inselruhe Ave\, Detroit\, MI\, 48207\, United States
ATTACH;FMTTYPE=image/png:https://miwaterstewardship.org/wp-content/uploads/2024/05/FDR-Belle-Isle-Cleanup.png
ORGANIZER;CN="Friends of the Detroit River":MAILTO:river@detroitriver.org
END:VEVENT
END:VCALENDAR