BEGIN:VCALENDAR
VERSION:2.0
PRODID:-//MI Water Stewardship - ECPv6.15.20//NONSGML v1.0//EN
CALSCALE:GREGORIAN
METHOD:PUBLISH
X-ORIGINAL-URL:https://miwaterstewardship.org
X-WR-CALDESC:Events for MI Water Stewardship
REFRESH-INTERVAL;VALUE=DURATION:PT1H
X-Robots-Tag:noindex
X-PUBLISHED-TTL:PT1H
BEGIN:VTIMEZONE
TZID:America/Detroit
BEGIN:DAYLIGHT
TZOFFSETFROM:-0500
TZOFFSETTO:-0400
TZNAME:EDT
DTSTART:20210314T070000
END:DAYLIGHT
BEGIN:STANDARD
TZOFFSETFROM:-0400
TZOFFSETTO:-0500
TZNAME:EST
DTSTART:20211107T060000
END:STANDARD
BEGIN:DAYLIGHT
TZOFFSETFROM:-0500
TZOFFSETTO:-0400
TZNAME:EDT
DTSTART:20220313T070000
END:DAYLIGHT
BEGIN:STANDARD
TZOFFSETFROM:-0400
TZOFFSETTO:-0500
TZNAME:EST
DTSTART:20221106T060000
END:STANDARD
BEGIN:DAYLIGHT
TZOFFSETFROM:-0500
TZOFFSETTO:-0400
TZNAME:EDT
DTSTART:20230312T070000
END:DAYLIGHT
BEGIN:STANDARD
TZOFFSETFROM:-0400
TZOFFSETTO:-0500
TZNAME:EST
DTSTART:20231105T060000
END:STANDARD
END:VTIMEZONE
BEGIN:VEVENT
DTSTART;TZID=America/Detroit:20220521T090000
DTEND;TZID=America/Detroit:20220521T120000
DTSTAMP:20260422T030208
CREATED:20220518T144311Z
LAST-MODIFIED:20220518T144311Z
UID:10000164-1653123600-1653134400@miwaterstewardship.org
SUMMARY:Boardman River Clean Sweep
DESCRIPTION:2nd Annual\nBoardman Lake and Downtown River Cleanup \nWith \nBack Country Hunters and Anglers of Michigan \nWe will meet at Hull Park and then drive to the south end of the lake to launch our boats.  We’ll paddle the lake on the south end as a group from the TAPC. \nWe will clean up 7 sections of the Boardman River including one impoundment lake. \nThere is at least one tire that we found last year that we want to concentrate on this time. \nCome out for a good time on the water for this new event. \nEmail Norm Fred if you have any questions.\n \nRegistration is required\nRegistration cancellations will be accepted until Saturday\, May 21\, 2022 at 6:00 AM\n\nCancellation Policy:\nIf you have to cancel for any reason\, please notify the trip host ASAP. Phone numbers are in the member directory on the TAPC website.
URL:https://miwaterstewardship.org/event/boardman-river-clean-sweep/
ORGANIZER;CN="Traverse Area Paddle Club":MAILTO:nrfred@yahoo.com
END:VEVENT
END:VCALENDAR