BEGIN:VCALENDAR
VERSION:2.0
PRODID:-//MI Water Stewardship - ECPv6.15.20//NONSGML v1.0//EN
CALSCALE:GREGORIAN
METHOD:PUBLISH
X-WR-CALNAME:MI Water Stewardship
X-ORIGINAL-URL:https://miwaterstewardship.org
X-WR-CALDESC:Events for MI Water Stewardship
REFRESH-INTERVAL;VALUE=DURATION:PT1H
X-Robots-Tag:noindex
X-PUBLISHED-TTL:PT1H
BEGIN:VTIMEZONE
TZID:America/Detroit
BEGIN:DAYLIGHT
TZOFFSETFROM:-0500
TZOFFSETTO:-0400
TZNAME:EDT
DTSTART:20240310T070000
END:DAYLIGHT
BEGIN:STANDARD
TZOFFSETFROM:-0400
TZOFFSETTO:-0500
TZNAME:EST
DTSTART:20241103T060000
END:STANDARD
BEGIN:DAYLIGHT
TZOFFSETFROM:-0500
TZOFFSETTO:-0400
TZNAME:EDT
DTSTART:20250309T070000
END:DAYLIGHT
BEGIN:STANDARD
TZOFFSETFROM:-0400
TZOFFSETTO:-0500
TZNAME:EST
DTSTART:20251102T060000
END:STANDARD
BEGIN:DAYLIGHT
TZOFFSETFROM:-0500
TZOFFSETTO:-0400
TZNAME:EDT
DTSTART:20260308T070000
END:DAYLIGHT
BEGIN:STANDARD
TZOFFSETFROM:-0400
TZOFFSETTO:-0500
TZNAME:EST
DTSTART:20261101T060000
END:STANDARD
END:VTIMEZONE
BEGIN:VEVENT
DTSTART;TZID=America/Detroit:20250426T090000
DTEND;TZID=America/Detroit:20250426T130000
DTSTAMP:20260423T033706
CREATED:20250403T154055Z
LAST-MODIFIED:20250403T154055Z
UID:10000498-1745658000-1745672400@miwaterstewardship.org
SUMMARY:Muskegon County Spring 2025 Recycling Event
DESCRIPTION:Muskegon County Spring 2025 Recycling Event \n Saturday\, April 26\, 2025 9:00am – 1:00pm1350 E Keating Ave Muskegon 49442 231-724-6001 \nFREE TO MUSKEGON COUNTY RESIDENTS ONLY \n NO SCRAP TIRES: TIRES WILL NOT be accepted at this event due to a delay in the EGLE Scrap Tire Grant process. Please check back in May/June 2025 for further updates https://mi-muskegoncounty.civicplus.com/1954/Tire-Recycling \n HAZARDOUS WASTE Including mercury\, petroleum products\, antifreeze\, pesticides\, herbicides\, acids\, bases\, CFL and fluorescent light bulbs\, and oil based paint products. Must be in containers no greater than 6 gallons; NO drums of any kind. Latex paint will not be accepted! \n ELECTRONICS Including computers\, peripherals\, TV’s\, and other electronic devices. Please note: CRT TV’s WILL be accepted for this event \n BUSINESS WASTE AND REGULAR TRASH NOT ACCEPTED \nVisit  www.muskegoncounty.net/777 for a link to a full listing of accepted electronic items. \nSevere weather may cause a halt or shut down of the event as determined by the event coordinator. \nEvent staff reserve the right to limit any collected materials and refuse apparent business waste.
URL:https://miwaterstewardship.org/event/muskegon-county-spring-2025-recycling-event/
LOCATION:Muskegon Department of Public Works\, 1350 E Keating Ave\, Muskegon\, MI\, 49442\, United States
CATEGORIES:Recycling
ATTACH;FMTTYPE=image/jpeg:https://miwaterstewardship.org/wp-content/uploads/2025/04/Muskegon-County-Recycling.jpg
END:VEVENT
END:VCALENDAR