BEGIN:VCALENDAR
VERSION:2.0
PRODID:-//MI Water Stewardship - ECPv6.15.20//NONSGML v1.0//EN
CALSCALE:GREGORIAN
METHOD:PUBLISH
X-ORIGINAL-URL:https://miwaterstewardship.org
X-WR-CALDESC:Events for MI Water Stewardship
REFRESH-INTERVAL;VALUE=DURATION:PT1H
X-Robots-Tag:noindex
X-PUBLISHED-TTL:PT1H
BEGIN:VTIMEZONE
TZID:America/Detroit
BEGIN:DAYLIGHT
TZOFFSETFROM:-0500
TZOFFSETTO:-0400
TZNAME:EDT
DTSTART:20220313T070000
END:DAYLIGHT
BEGIN:STANDARD
TZOFFSETFROM:-0400
TZOFFSETTO:-0500
TZNAME:EST
DTSTART:20221106T060000
END:STANDARD
BEGIN:DAYLIGHT
TZOFFSETFROM:-0500
TZOFFSETTO:-0400
TZNAME:EDT
DTSTART:20230312T070000
END:DAYLIGHT
BEGIN:STANDARD
TZOFFSETFROM:-0400
TZOFFSETTO:-0500
TZNAME:EST
DTSTART:20231105T060000
END:STANDARD
BEGIN:DAYLIGHT
TZOFFSETFROM:-0500
TZOFFSETTO:-0400
TZNAME:EDT
DTSTART:20240310T070000
END:DAYLIGHT
BEGIN:STANDARD
TZOFFSETFROM:-0400
TZOFFSETTO:-0500
TZNAME:EST
DTSTART:20241103T060000
END:STANDARD
BEGIN:DAYLIGHT
TZOFFSETFROM:-0500
TZOFFSETTO:-0400
TZNAME:EDT
DTSTART:20250309T070000
END:DAYLIGHT
BEGIN:STANDARD
TZOFFSETFROM:-0400
TZOFFSETTO:-0500
TZNAME:EST
DTSTART:20251102T060000
END:STANDARD
BEGIN:DAYLIGHT
TZOFFSETFROM:-0500
TZOFFSETTO:-0400
TZNAME:EDT
DTSTART:20260308T070000
END:DAYLIGHT
BEGIN:STANDARD
TZOFFSETFROM:-0400
TZOFFSETTO:-0500
TZNAME:EST
DTSTART:20261101T060000
END:STANDARD
END:VTIMEZONE
BEGIN:VEVENT
DTSTART;TZID=America/Detroit:20250405T100000
DTEND;TZID=America/Detroit:20250405T140000
DTSTAMP:20260423T202255
CREATED:20250314T143655Z
LAST-MODIFIED:20250314T143655Z
UID:10000482-1743847200-1743861600@miwaterstewardship.org
SUMMARY:Vernal Pool Patrol Field Sampling at Rogue River State Game Area
DESCRIPTION:Join Kent Conservation District\, Lower Grand River Organization of Watersheds\, and Michigan Natural Features Inventory for a day of exploration and discovery at the Rogue River State Game Area. The Vernal Pool Patrol Sampling Day is a hands-on opportunity to learn about the unique ecosystems of vernal pools and to help gather data for the statewide effort. Get your hands dirty as we collect samples and observe the fascinating organisms that call these pools home. Weather-appropriate outerwear and watertight boots are highly recommended. Snacks and refreshments will be provided. \nRegistration for both the Vernal Pool Patrol Online Training Series and field sampling day is required. The training series is live and consists of three webinars on March 4\, 11\, and 18 which will be recorded and emailed to registrants. Webinar Registration – Zoom link here: https://msu.zoom.us/…/regi…/WN_5WpknTJ4R7SLBXERZCNLtg… \nWe will meet at the Howard Christensen Nature Center and carpool to the field sampling site. If you are willing to sign up as a carpool vehicle or have any questions please email kcd.striketeam@macd.org or call (616) 365-5771. \nHoward Christensen Nature Center will be hosting and providing parking at no cost; Donations are highly encouraged! The group should park in the main Welcome Center parking lot. It is the first of two driveways on Red Pine Drive\, as you travel north. \nDon’t miss this chance to contribute to citizen science while getting hands-on training experience. \nReserve your spot here!
URL:https://miwaterstewardship.org/event/vernal-pool-patrol-field-sampling-at-rogue-river-state-game-area/
LOCATION:Howard Christensen Nature Center\, 16190 Red Pine Dr NW\, Kent City\, MI\, 49330\, United States
CATEGORIES:Vernal Pool Monitoring
ATTACH;FMTTYPE=image/png:https://miwaterstewardship.org/wp-content/uploads/2025/03/Vernal-Pool-Patrol-Field-Day-2.png
ORGANIZER;CN="Lower Grand River Organization of Watersheds - LGROW":MAILTO:info@lgrow.org
END:VEVENT
BEGIN:VEVENT
DTSTART;TZID=America/Detroit:20250328T093000
DTEND;TZID=America/Detroit:20250328T103000
DTSTAMP:20260423T202255
CREATED:20250310T165643Z
LAST-MODIFIED:20250310T165643Z
UID:10000475-1743154200-1743157800@miwaterstewardship.org
SUMMARY:Rush Creek Watershed Workshop
DESCRIPTION:Join Michigan Sustainable Business Forum (MiSBF)\, the Lower Grand River Organization of Watersheds (LGROW)\, and its partners for an informative workshop focused on improving water quality and stormwater management in the Rush Creek Watershed. This session will provide businesses and landowners with valuable insights into sustainable practices\, including rainscaping and tree planting\, to reduce stormwater runoff and enhance environmental resilience. \nLearn about the role of trees in improving water quality and explore conservation efforts led by Rush Creek Watershed stakeholders\, and connect with resources to implement green infrastructure solutions. The workshop aims to foster collaboration\, build community engagement\, and secure new commitments from local businesses to plant trees as part of a broader watershed improvement initiative. \nWhat to Expect:\n\nEducational Sessions – Learn about the impact of rainscaping and large trees on water quality and how businesses and property owners can contribute to a healthier watershed.\nNetworking & Collaboration – Connect with local businesses\, landowners\, and conservation experts working toward sustainable stormwater solutions.\nProject Overview – Hear from Rush Creek Watershed stakeholders including the ODC Network\, and other environmental leaders about ongoing initiatives to restore Rush Creek.\n\nWhy It Matters:\nThis workshop is part of a broader initiative to address stormwater runoff in Michigan’s Lower Grand River Watershed. Through collaboration\, the project aims to plant 450 trees and 50 shrubs\, intercepting over 2 million gallons of stormwater runoff over 20 years. You can learn more at www.lgrow.org/rush-creek. \nRegister HERE.
URL:https://miwaterstewardship.org/event/rush-creek-watershed-workshop/
LOCATION:Hudsonville City Hall\, 3275 Central Blvd\, Hudsonville\, MI\, 49426\, United States
CATEGORIES:Workshop
ATTACH;FMTTYPE=image/png:https://miwaterstewardship.org/wp-content/uploads/2025/03/Rush-Creek-Watershed.png
ORGANIZER;CN="Lower Grand River Organization of Watersheds - LGROW":MAILTO:info@lgrow.org
END:VEVENT
BEGIN:VEVENT
DTSTART;TZID=America/Detroit:20230425T183000
DTEND;TZID=America/Detroit:20230425T200000
DTSTAMP:20260423T202255
CREATED:20230412T182935Z
LAST-MODIFIED:20230412T182935Z
UID:10000264-1682447400-1682452800@miwaterstewardship.org
SUMMARY:Sacred Grounds *Virtual* Rainscaping Webinar
DESCRIPTION:All are welcome to come and learn about the National Wildlife Federation Sacred Grounds and LGROW Rainscaping Programs.\nIn this workshop you will learn the purpose and benefits of native plants and how to design\, install\, and maintain rainscaping practices. All participants will receive a voucher for the Kent Conservation District’s Annual Native Plant Sale.
URL:https://miwaterstewardship.org/event/sacred-grounds-virtual-rainscaping-webinar/
LOCATION:virtual
ORGANIZER;CN="Lower Grand River Organization of Watersheds - LGROW":MAILTO:info@lgrow.org
END:VEVENT
END:VCALENDAR