BEGIN:VCALENDAR
VERSION:2.0
PRODID:-//MI Water Stewardship - ECPv6.15.20//NONSGML v1.0//EN
CALSCALE:GREGORIAN
METHOD:PUBLISH
X-WR-CALNAME:MI Water Stewardship
X-ORIGINAL-URL:https://miwaterstewardship.org
X-WR-CALDESC:Events for MI Water Stewardship
REFRESH-INTERVAL;VALUE=DURATION:PT1H
X-Robots-Tag:noindex
X-PUBLISHED-TTL:PT1H
BEGIN:VTIMEZONE
TZID:America/Detroit
BEGIN:DAYLIGHT
TZOFFSETFROM:-0500
TZOFFSETTO:-0400
TZNAME:EDT
DTSTART:20210314T070000
END:DAYLIGHT
BEGIN:STANDARD
TZOFFSETFROM:-0400
TZOFFSETTO:-0500
TZNAME:EST
DTSTART:20211107T060000
END:STANDARD
BEGIN:DAYLIGHT
TZOFFSETFROM:-0500
TZOFFSETTO:-0400
TZNAME:EDT
DTSTART:20220313T070000
END:DAYLIGHT
BEGIN:STANDARD
TZOFFSETFROM:-0400
TZOFFSETTO:-0500
TZNAME:EST
DTSTART:20221106T060000
END:STANDARD
BEGIN:DAYLIGHT
TZOFFSETFROM:-0500
TZOFFSETTO:-0400
TZNAME:EDT
DTSTART:20230312T070000
END:DAYLIGHT
BEGIN:STANDARD
TZOFFSETFROM:-0400
TZOFFSETTO:-0500
TZNAME:EST
DTSTART:20231105T060000
END:STANDARD
BEGIN:DAYLIGHT
TZOFFSETFROM:-0500
TZOFFSETTO:-0400
TZNAME:EDT
DTSTART:20240310T070000
END:DAYLIGHT
BEGIN:STANDARD
TZOFFSETFROM:-0400
TZOFFSETTO:-0500
TZNAME:EST
DTSTART:20241103T060000
END:STANDARD
BEGIN:DAYLIGHT
TZOFFSETFROM:-0500
TZOFFSETTO:-0400
TZNAME:EDT
DTSTART:20250309T070000
END:DAYLIGHT
BEGIN:STANDARD
TZOFFSETFROM:-0400
TZOFFSETTO:-0500
TZNAME:EST
DTSTART:20251102T060000
END:STANDARD
END:VTIMEZONE
BEGIN:VEVENT
DTSTART;TZID=America/Detroit:20240912T090000
DTEND;TZID=America/Detroit:20240912T100000
DTSTAMP:20260419T231628
CREATED:20240829T155412Z
LAST-MODIFIED:20240829T155412Z
UID:10000401-1726131600-1726135200@miwaterstewardship.org
SUMMARY:Understanding Red Swamp Crayfish Spread in Southeastern Michigan
DESCRIPTION:Invasive red swamp crayfish are found in small ponds and drainages in southeastern Michigan\, in areas with a high potential for spread to nearby bodies of water. Dr. Jared Homola of the USGS Wisconsin Cooperative Fishery Research Unit will discuss a project in collaboration with Michigan State University and the Michigan DNR using cutting-edge genetic tools to identify the biological and environmental factors that could lead to the crayfish’s spread. Understanding these factors is helping inform development of strategies to assess the risks posed by red swamp crayfish and ultimately control or eradicate them in Michigan. \nAfter registering\, you will receive an email from “EGLE Outreach” with a link for you to use to join the webinar. \nRegister for this free webinar HERE.
URL:https://miwaterstewardship.org/event/understanding-red-swamp-crayfish-spread-in-southeastern-michigan/
LOCATION:Online Webinar
CATEGORIES:Invasive Species,Webinars
ATTACH;FMTTYPE=image/png:https://miwaterstewardship.org/wp-content/uploads/2024/05/NotMISpecies-FB-Image.png
ORGANIZER;CN="EGLE":MAILTO:EGLE-Assist@Michigan.gov
END:VEVENT
BEGIN:VEVENT
DTSTART;TZID=America/Detroit:20240625T090000
DTEND;TZID=America/Detroit:20240625T100000
DTSTAMP:20260419T231628
CREATED:20240613T135032Z
LAST-MODIFIED:20240613T135032Z
UID:10000373-1719306000-1719309600@miwaterstewardship.org
SUMMARY:Empowering Students to Take Action on Invasive Species
DESCRIPTION:If you’re looking for a successful model for infusing invasive species education in the classroom\, Lake Superior State University’s Beth Christiansen has one. “Invading Classrooms: Empowering Students to Take Action on Invasive Species” brings together students\, teachers\, natural resource mentors\, and staff from LSSU’s Center for Freshwater Research and Education to conduct hands-on research into local invasive species issues. Join Christiansen to learn how this collaboration has fostered local\, student-led stewardship projects to raise awareness and inspire action in communities across Northern Michigan. \nTo register\, visit https://us06web.zoom.us/webinar/register/WN_QtlLJOibT4OM1aQbBfeU6Q#/registration.
URL:https://miwaterstewardship.org/event/empowering-students-to-take-action-on-invasive-species/
LOCATION:Online Webinar
CATEGORIES:Webinars
ATTACH;FMTTYPE=image/png:https://miwaterstewardship.org/wp-content/uploads/2024/05/NotMISpecies-FB-Image.png
ORGANIZER;CN="EGLE":MAILTO:EGLE-Assist@Michigan.gov
END:VEVENT
BEGIN:VEVENT
DTSTART;TZID=America/Detroit:20240521T090000
DTEND;TZID=America/Detroit:20240521T100000
DTSTAMP:20260419T231628
CREATED:20240513T185051Z
LAST-MODIFIED:20240513T185051Z
UID:10000368-1716282000-1716285600@miwaterstewardship.org
SUMMARY:EGLE Webinar- Containing the First Hydrilla Infestation in Michigan
DESCRIPTION:The mythic Hydra was a water serpent that sprouted two heads for every one cut off. In a similar fashion\, hydrilla – said to be the most invasive aquatic plant in the world – can grow new plants from stem fragments\, making it a formidable challenge to control. That challenge now faces Michigan\, where hydrilla was recently detected for the first time. Join Billy Keiper from EGLE Water Resources Division to find out why hydrilla is such a threat\, how the Michigan Invasive Species Program is working to eradicate it\, and what you can do to help identify and report it. \nREGISTER HERE.
URL:https://miwaterstewardship.org/event/egle-webinar-containing-the-first-hydrilla-infestation-in-michigan/
LOCATION:Online Webinar
ATTACH;FMTTYPE=image/png:https://miwaterstewardship.org/wp-content/uploads/2024/05/NotMISpecies-FB-Image.png
ORGANIZER;CN="EGLE":MAILTO:EGLE-Assist@Michigan.gov
END:VEVENT
BEGIN:VEVENT
DTSTART;TZID=America/Detroit:20221005T110000
DTEND;TZID=America/Detroit:20221005T120000
DTSTAMP:20260419T231628
CREATED:20220928T170157Z
LAST-MODIFIED:20220928T170157Z
UID:10000259-1664967600-1664971200@miwaterstewardship.org
SUMMARY:EGLE presents educational webinar series on Lake Erie algal blooms
DESCRIPTION:Because knowledge is power\, EGLE will present an educational webinar series\, “Taking Action on Lake Erie\,” to take an inside look at ways the state and partners are working together to enhance stewardship of the land and improve water quality in Michigan’s portion of the Western Lake Erie Basin. \nThe series begins with a session 11 a.m.-noon Wednesday\, Oct. 5\, highlighting agriculture inventory planning and implementation in the Western Lake Erie Basin led by EGLE’s Nonpoint Source Program and implemented by local conservation districts. \nThe agricultural inventory process utilizes modeling\, desktop analysis\, and a field inventory to collect site-specific data to locate and prioritize agricultural sites that have the potential to impact water quality. The goal is to implement agricultural best management practices on sites with the greatest potential to reduce phosphorus loading and improve water quality. This is an opportunity for the public\, agency partners\, and anyone who wants to know what Michigan is doing to reduce nutrient loading to Lake Erie. \nInformation and registration are available on the event website. Questions about the webinar may be directed to Michelle Selzer\, Lake Erie coordinator in EGLE’s Water Resources Division\, at SelzerM@Michigan.gov. Questions about registration may be directed to training and outreach coordinators Alana Berthold\, BertholdA@Michigan.gov\, or Joel Roseberry\, RoseberryJ@Michigan.gov.
URL:https://miwaterstewardship.org/event/egle-presents-educational-webinar-series-on-lake-erie-algal-blooms/
LOCATION:virtual
ORGANIZER;CN="EGLE":MAILTO:EGLE-Assist@Michigan.gov
END:VEVENT
BEGIN:VEVENT
DTSTART;TZID=America/Detroit:20220604T080000
DTEND;TZID=America/Detroit:20220612T170000
DTSTAMP:20260419T231628
CREATED:20220509T181831Z
LAST-MODIFIED:20220509T181831Z
UID:10000249-1654329600-1655053200@miwaterstewardship.org
SUMMARY:Great Lakes and Freshwater Week
DESCRIPTION:Each year\, Michigan proclaims this week as an opportunity to raise awareness of the Great Lakes and Michigan’s inland lakes\, rivers\, streams and groundwater. It’s a time to trumpet the importance of these water bodies and their immeasurable value to quality of life throughout the state. Michigan is known around the world for this unique resource\, which people can help preserve in the face of climate change and other challenges. \nBy raising awareness\, we will inspire people to protect and be champions of the Great Lakes and fresh water. Our call to action is for residents around the state to enjoy\, appreciate\, and safeguard this vital resource for current and future generations. \nWill you paddle along a water trail or join an Adopt-a-Beach team for a local cleanup? Maybe you can collect plastics as you stroll along the shore\, or clear litter from storm catch basins in your neighborhood. What will you do to be a Great Lakes Champion? \nWhat will you do to be a Great Lakes Champion? Share your photos\, actions\, and stories on social media with #MiGreatLakesWeek.
URL:https://miwaterstewardship.org/event/great-lakes-and-freshwater-week/
LOCATION:Online Webinar
ORGANIZER;CN="EGLE":MAILTO:EGLE-Assist@Michigan.gov
END:VEVENT
END:VCALENDAR