BEGIN:VCALENDAR
VERSION:2.0
PRODID:-//MI Water Stewardship - ECPv6.15.20//NONSGML v1.0//EN
CALSCALE:GREGORIAN
METHOD:PUBLISH
X-WR-CALNAME:MI Water Stewardship
X-ORIGINAL-URL:https://miwaterstewardship.org
X-WR-CALDESC:Events for MI Water Stewardship
REFRESH-INTERVAL;VALUE=DURATION:PT1H
X-Robots-Tag:noindex
X-PUBLISHED-TTL:PT1H
BEGIN:VTIMEZONE
TZID:America/Detroit
BEGIN:DAYLIGHT
TZOFFSETFROM:-0500
TZOFFSETTO:-0400
TZNAME:EDT
DTSTART:20210314T070000
END:DAYLIGHT
BEGIN:STANDARD
TZOFFSETFROM:-0400
TZOFFSETTO:-0500
TZNAME:EST
DTSTART:20211107T060000
END:STANDARD
BEGIN:DAYLIGHT
TZOFFSETFROM:-0500
TZOFFSETTO:-0400
TZNAME:EDT
DTSTART:20220313T070000
END:DAYLIGHT
BEGIN:STANDARD
TZOFFSETFROM:-0400
TZOFFSETTO:-0500
TZNAME:EST
DTSTART:20221106T060000
END:STANDARD
BEGIN:DAYLIGHT
TZOFFSETFROM:-0500
TZOFFSETTO:-0400
TZNAME:EDT
DTSTART:20230312T070000
END:DAYLIGHT
BEGIN:STANDARD
TZOFFSETFROM:-0400
TZOFFSETTO:-0500
TZNAME:EST
DTSTART:20231105T060000
END:STANDARD
BEGIN:DAYLIGHT
TZOFFSETFROM:-0500
TZOFFSETTO:-0400
TZNAME:EDT
DTSTART:20240310T070000
END:DAYLIGHT
BEGIN:STANDARD
TZOFFSETFROM:-0400
TZOFFSETTO:-0500
TZNAME:EST
DTSTART:20241103T060000
END:STANDARD
BEGIN:DAYLIGHT
TZOFFSETFROM:-0500
TZOFFSETTO:-0400
TZNAME:EDT
DTSTART:20250309T070000
END:DAYLIGHT
BEGIN:STANDARD
TZOFFSETFROM:-0400
TZOFFSETTO:-0500
TZNAME:EST
DTSTART:20251102T060000
END:STANDARD
BEGIN:DAYLIGHT
TZOFFSETFROM:-0500
TZOFFSETTO:-0400
TZNAME:EDT
DTSTART:20260308T070000
END:DAYLIGHT
BEGIN:STANDARD
TZOFFSETFROM:-0400
TZOFFSETTO:-0500
TZNAME:EST
DTSTART:20261101T060000
END:STANDARD
END:VTIMEZONE
BEGIN:VEVENT
DTSTART;TZID=America/Detroit:20250429T100000
DTEND;TZID=America/Detroit:20250429T110000
DTSTAMP:20260419T211655
CREATED:20250403T155123Z
LAST-MODIFIED:20250428T190255Z
UID:10000499-1745920800-1745924400@miwaterstewardship.org
SUMMARY:EGLE Regulation of Construction Projects on Inland Lakes
DESCRIPTION:EGLE Local Leaders Webinar Series \nInland Lakes – what you need to know and how EGLE regulates (and doesn’t regulate) construction projects on inland lakes \nMichigan is blessed with an abundance of inland lakes; however\, lakes present unique challenges and issues to residents who reside near them. Accessing the water\, shoreline protection\, and creating an healthy lake environment often come up as issues to be addressed. Several types of projects and activities in and around lakes and streams are regulated by EGLE. Learn what types of construction-based projects may require a permit. After registering\, you will receive an email from “EGLE Outreach” with a link for you to use to join the webinar. \nRegister HERE.
URL:https://miwaterstewardship.org/event/egle-regulation-of-construction-projects-on-inland-lakes/
LOCATION:Online Webinar
CATEGORIES:Webinars
ATTACH;FMTTYPE=image/jpeg:https://miwaterstewardship.org/wp-content/uploads/2025/04/EGLE-Local-Leaders-Webinar-Series-Condensed.jpg
ORGANIZER;CN="EGLE":MAILTO:EGLE-Assist@Michigan.gov
END:VEVENT
BEGIN:VEVENT
DTSTART;VALUE=DATE:20250422
DTEND;VALUE=DATE:20250424
DTSTAMP:20260419T211655
CREATED:20250402T160208Z
LAST-MODIFIED:20250402T160208Z
UID:10000494-1745280000-1745452799@miwaterstewardship.org
SUMMARY:MI Healthy Climate Conference 2025
DESCRIPTION:Join the Michigan Department of Environment\, Great Lakes\, and Energy (EGLE) for the third annual MI Healthy Climate Conference on April 22-23\, 2025\, at the Huntington Place in Detroit! \nAbout the Conference \nGovernor Whitmer committed Michigan to carbon neutrality by 2050 and in April 2022 released the MI Healthy Climate Plan (the Plan) to chart Michigan’s path forward. We are dedicated to reaching our interim 2030 goal of reducing greenhouse gas emissions by 52% from 2005 baselines in an equitable manner. While we tackle this challenge with great urgency\, we also find hope and inspiration in the collective community taking climate action in Michigan. The Plan builds off the leadership of tribal communities and cities and towns across Michigan\, in addition to the private sector. \nAs we continue working together toward a carbon neutral Michigan\, EGLE is hosting this one-and-a-half-day MI Healthy Climate Conference to report on the progress of the Plan\, build connections and empower collaboration\, leverage resources and mobilize opportunities\, and prioritize our next steps towards reaching the goals of the Plan. This conference is expected to draw more than 800 attendees from local\, state\, federal\, and tribal governments\, universities\, nonprofits\, community groups\, and businesses. \nUnder the theme “Road to 2030\,” speakers will share about their success stories\, challenges\, funding opportunities\, technical assistance\, and other actions they are taking in the six priority areas of the Plan: \n1.    Commit to environmental justice and pursue a just transition\n2.    Clean the electric grid\n3.    Electrify vehicles and increase public transit\n4.    Repair and decarbonize homes and businesses\n5.    Drive clean innovation in industry\n6.    Protect Michigan’s land and water \nRegister today and help shape Michigan’s collective journey to carbon neutrality! \nGeneral Admission:  $225 \nNon-Profit/Government: $125 \nTribal/Community Members/Students: $50 \n*Fees include April 23 breakfast and lunch.\nParking is not included. \nRegistration/Cancellation Deadline: April 13\, 2025
URL:https://miwaterstewardship.org/event/mi-healthy-climate-conference-2025/
LOCATION:Huntington Place\, 1 Washington Blvd\, Detroit\, MI\, 48226\, United States
CATEGORIES:Conference
ATTACH;FMTTYPE=image/png:https://miwaterstewardship.org/wp-content/uploads/2025/04/MI-Healthy-Climate-Conference.png
ORGANIZER;CN="EGLE":MAILTO:EGLE-Assist@Michigan.gov
END:VEVENT
BEGIN:VEVENT
DTSTART;TZID=America/Detroit:20250415T100000
DTEND;TZID=America/Detroit:20250415T110000
DTSTAMP:20260419T211655
CREATED:20250331T140428Z
LAST-MODIFIED:20250331T140428Z
UID:10000488-1744711200-1744714800@miwaterstewardship.org
SUMMARY:Floodplains 101
DESCRIPTION:Floodplains 101: What you need to know about the floodplains in your community \nIs there a waterbody that runs through\, or near your community? In Michigan\, more than 1\,000 communities participate in the FEMA National Flood Insurance Program (NFIP) and an even greater number have unmapped flood zones\, yet every waterbody has the potential to flood. \nThis webinar is an opportunity to learn about floodplain management\, the flood provisions in Michigan Building Codes\, and EGLE’s Floodplain Authority found in state regulations. We will discuss what a floodplain is\, what activities require a permit\, floodplain development administrative responsibilities\, and reviewing an Elevation Certificate. \nThis course is designed for anyone involved in development within your community such as supervisors\, clerks\, building officials and inspectors\, engineers\, and surveyors. \nBuilding Officials and Inspectors\, and others who qualify can earn 1 hour Rules and Acts credit toward Act 54 hours. \nAfter registering\, you will receive an email from “EGLE Outreach” with a link for you to use to join the webinar. \nRegister HERE.
URL:https://miwaterstewardship.org/event/floodplains-101/
LOCATION:Online Webinar
CATEGORIES:Webinars
ATTACH;FMTTYPE=image/jpeg:https://miwaterstewardship.org/wp-content/uploads/2025/03/EGLE-Local-Leaders-Webinar-Series.jpg
ORGANIZER;CN="EGLE":MAILTO:EGLE-Assist@Michigan.gov
END:VEVENT
BEGIN:VEVENT
DTSTART;TZID=America/Detroit:20250327T090000
DTEND;TZID=America/Detroit:20250327T100000
DTSTAMP:20260419T211655
CREATED:20250310T162238Z
LAST-MODIFIED:20250310T162247Z
UID:10000474-1743066000-1743069600@miwaterstewardship.org
SUMMARY:Finding and Managing Invasive Lesser Celandine
DESCRIPTION:Not MI Species Webinar Series: Now you see me\, now you don’t! The trick of finding and managing invasive lesser celandine. \nIn 2024\, lesser celandine (Ficaria verna)\, a spring ephemeral plant found in forest floodplains\, was added to Michigan’s watch list. With this plant\, timing is critical; it appears very early in spring and hides underground well before summer’s heat begins. Learn about the impacts\, identification and management strategies for lesser celandine from Katie Grzesiak\, terrestrial invasive species coordinator with the Department of Natural Resources. You’ll finish prepared to become a spring lesser celandine spotter on your next outdoor adventure. \nAfter registering\, you will receive an email from “EGLE Outreach” with a link for you to use to join the webinar. \nRegister HERE. \n 
URL:https://miwaterstewardship.org/event/finding-and-managing-invasive-lesser-celandine/
LOCATION:Online Webinar
CATEGORIES:Invasive Species,Webinars
ATTACH;FMTTYPE=image/png:https://miwaterstewardship.org/wp-content/uploads/2024/05/NotMISpecies-FB-Image.png
ORGANIZER;CN="EGLE":MAILTO:EGLE-Assist@Michigan.gov
END:VEVENT
BEGIN:VEVENT
DTSTART;TZID=America/Detroit:20250220T090000
DTEND;TZID=America/Detroit:20250220T100000
DTSTAMP:20260419T211655
CREATED:20250116T161826Z
LAST-MODIFIED:20250116T161826Z
UID:10000436-1740042000-1740045600@miwaterstewardship.org
SUMMARY:From Source to Tap: EGLE Drinking Water Webinar
DESCRIPTION:From Source to Tap: Implementing a Resilient Source Water Protection Plan with Innovative Management Strategies \nThis webinar will explore the critical importance of source water protection planning for safeguarding community water supplies. The City of Kalamazoo\, Michigan will share their 25 years of source water protection experience with a focus on practical management strategies to protect their municipal water supply. The Michigan Rural Water Association Source Water Protection Specialist will also discuss examples of management options that small and medium size systems have implemented to protect their source. \nWhether you’re a water system manager\, land use planner\, consultant\, or a concerned citizen\, this session will provide valuable insights and tools to help you protect one of your community’s most essential resources – its drinking water. Join us to discover practical steps you can take today to protect your water supply. This webinar is approved for 0.1 CECs in the technical category for drinking water operators. \nSpeakers: Ruth Kline-Robach\, Outreach Specialist Michigan State University Institute of Water Research and Department of Community Sustainability Jean Talanda\, Environmental Programs Manager\, City of Kalamazoo Department of Public Services\, Water Resources Division Kelly Hon\, Source Water Protection Specialist\, Michigan Rural Water Association \nRegister HERE
URL:https://miwaterstewardship.org/event/egle-drinking-water-webinar/
LOCATION:Online Webinar
CATEGORIES:Webinars
ATTACH;FMTTYPE=image/jpeg:https://miwaterstewardship.org/wp-content/uploads/2025/01/Drinking-Water-Protecting-MI-Source-Webinar-Series.jpg
ORGANIZER;CN="EGLE":MAILTO:EGLE-Assist@Michigan.gov
END:VEVENT
BEGIN:VEVENT
DTSTART;TZID=America/Detroit:20250122T180000
DTEND;TZID=America/Detroit:20250122T190000
DTSTAMP:20260419T211655
CREATED:20241205T190750Z
LAST-MODIFIED:20241205T190750Z
UID:10000406-1737568800-1737572400@miwaterstewardship.org
SUMMARY:EGLE Virtual Listening Session: Protect Michigan’s Land and Water
DESCRIPTION:EGLE is starting another round of input on implementation of the Michigan Healthy Climate Plan (Michigan.gov/MiHealthyClimatePlan). For this session\, we are soliciting input on the priorities across the action areas under “Protect Michigan’s Land and Water\,” (working lands/agriculture)\, including these priority actions to meet our climate goals: \n• As a part of the national ‘America the Beautiful’ initiative\, protect 30 percent of Michigan’s land and water by 2030 to naturally capture GHG emissions\, while maintaining and improving recreational opportunities for all Michiganders\, expanding access in disproportionately impacted communities\, and protecting biodiversity. \n• Develop initiatives to support farmers in adopting best management practices to improve soil health\, store carbon\, and utilize other greenhouse gas emissions\, while also protecting water quality. \n• Create programs to catalyze and accelerate the transition to cleaner technologies like electric and hydrogen fuel-cell farm equipment. Each virtual listening session will begin with a brief introduction by EGLE on the MI Healthy Climate Plan goals related to the specific action area. \nWe will then open it up for public comment\, where those who wish to comment will have three minutes each. Feedback received in these sessions will serve to organize and influence near- and long-term greenhouse gas reduction measures. \nRegister for this free webinar HERE.
URL:https://miwaterstewardship.org/event/egle-virtual-listening-session-protect-michigans-land-and-water/
LOCATION:Online Webinar
CATEGORIES:Webinars
ATTACH;FMTTYPE=image/png:https://miwaterstewardship.org/wp-content/uploads/2024/12/MI-Healthy-Climate-Webinars.png
ORGANIZER;CN="EGLE":MAILTO:EGLE-Assist@Michigan.gov
END:VEVENT
BEGIN:VEVENT
DTSTART;TZID=America/Detroit:20250114T090000
DTEND;TZID=America/Detroit:20250114T100000
DTSTAMP:20260419T211655
CREATED:20241212T175955Z
LAST-MODIFIED:20241212T175955Z
UID:10000412-1736845200-1736848800@miwaterstewardship.org
SUMMARY:Don’t Let It Loose! Protecting Michigan’s Waterways from Pesky Pets and Plants
DESCRIPTION:Aquariums and water gardens provide peace and serenity to homes and public spaces; however\, they also are home to non-native animals and plants that don’t belong in the wild. Since 2015\, Michigan State University Extension has been empowering aquarium and water garden retailers to make sound stocking decisions and to share the “don’t let it loose” message with their customers through the Reduce Invasive Pet and Plant Escapes (RIPPLE) campaign. Join Paige Filice\, natural resources educator and associate director of the MSUE Center for Lakes and Streams to learn about the pet and garden trade and how the “don’t let it loose” message is being promoted through surrender events and partnerships with leading retailers and conservation organizations. \nRegister HERE.
URL:https://miwaterstewardship.org/event/dont-let-it-loose-protecting-michigans-waterways-from-pesky-pets-and-plants/
LOCATION:Online Webinar
CATEGORIES:Webinars
ATTACH;FMTTYPE=image/png:https://miwaterstewardship.org/wp-content/uploads/2024/05/NotMISpecies-FB-Image.png
ORGANIZER;CN="EGLE":MAILTO:EGLE-Assist@Michigan.gov
END:VEVENT
BEGIN:VEVENT
DTSTART;VALUE=DATE:20241203
DTEND;VALUE=DATE:20241206
DTSTAMP:20260419T211655
CREATED:20241024T190219Z
LAST-MODIFIED:20241024T190219Z
UID:10000404-1733184000-1733443199@miwaterstewardship.org
SUMMARY:2024 Great Lakes PFAS Summit
DESCRIPTION:Per- and polyfluoroalkyl substances (PFAS) continue to present some of the biggest challenges in chemical contamination across the world. States throughout the nation\, including the Great Lakes region\, are finding PFAS contamination in a growing number of locations where these persistent chemicals pose a threat to human health and the environment. The Great Lakes PFAS Summit will bring together environmental program managers\, policy experts\, researchers\, and contractors from around the Great Lakes region to share new methods of addressing this contamination and present innovative technical solutions developed to address these “forever” chemicals. \nParticipants will include local\, state\, and federal government officials; environmental consultants and vendors; academic researchers and students; industry managing PFAS contamination; and community organizations.  Join thousands of participants for sessions on: \n\nHuman and Ecological Impacts\nRegulation\nFate and Transport\nTreatment Technology\n\nGeneral Admission: $35 \nExhibitors: $95 \nLocal\, Tribal\, State\, and Federal Government: $0 \nRegistration/Cancellation Deadline: December 1\, 2024\, 11PM \nREGISTER HERE
URL:https://miwaterstewardship.org/event/2024-great-lakes-pfas-summit/
LOCATION:Online Webinar
CATEGORIES:Conference
ATTACH;FMTTYPE=image/png:https://miwaterstewardship.org/wp-content/uploads/2024/10/2024-Great-Lakes-PFAS-Summit.png
ORGANIZER;CN="EGLE":MAILTO:EGLE-Assist@Michigan.gov
END:VEVENT
BEGIN:VEVENT
DTSTART;TZID=America/Detroit:20241112T100000
DTEND;TZID=America/Detroit:20241112T113000
DTSTAMP:20260419T211655
CREATED:20241018T155729Z
LAST-MODIFIED:20241018T155754Z
UID:10000402-1731405600-1731411000@miwaterstewardship.org
SUMMARY:A Celebration of National Stormwater Day
DESCRIPTION:On November 16\, 1990\, the Federal Register announced the promulgation of Phase I of the National Pollutant Discharge Elimination System stormwater program making this a defining day for the stormwater sector. Join EGLE staff 34 years later as they highlight EGLE’s programs to manage stormwater for the protection of surface water quality in Michigan. The webinar will include presentations from EGLE’s Nonpoint Source\, Industrial Stormwater\, Municipal Separate Storm Sewer System\, Construction Stormwater\, and Combined Sewer Overflow programs followed by a question-and-answer session. Anyone interested in the management of stormwater for the protection of surface waters in Michigan is welcome to attend. \nTo register\, visit https://us06web.zoom.us/webinar/register/WN_gRug6sf2RJ2oJWQrW0hjMQ#/registration. \nAfter registering\, you will receive an email from “EGLE Outreach” with a link for you to use to join the webinar.
URL:https://miwaterstewardship.org/event/a-celebration-of-national-stormwater-day-webinar/
LOCATION:Online Webinar
CATEGORIES:Webinars
ATTACH;FMTTYPE=image/svg+xml:https://miwaterstewardship.org/wp-content/uploads/2024/10/Stormwater-Logo-Color.svg
ORGANIZER;CN="EGLE":MAILTO:EGLE-Assist@Michigan.gov
END:VEVENT
BEGIN:VEVENT
DTSTART;TZID=America/Detroit:20240916T090000
DTEND;TZID=America/Detroit:20240916T100000
DTSTAMP:20260419T211655
CREATED:20240829T153625Z
LAST-MODIFIED:20240829T153625Z
UID:10000400-1726477200-1726480800@miwaterstewardship.org
SUMMARY:SepticSmart 2024 - Septic System 101
DESCRIPTION:Michigan’s residents rely on over 1.3 million septic systems to treat the wastewater generated in their homes. Proper septic system use\, and routine care\, are vital to protecting public health\, preserving our highly-valued groundwater\, lakes\, streams\, and waterways. Learning about septic systems can help you avoid costly repairs. \nWebinar attendees will learn about: \n\nthe basics of septic systems\nseptic system operation and maintenance tips\na quick overview of Michigan’s Septic Replacement Loan Program\n\nYou’ll leave this webinar with access to educational materials and a boost in your ability to manage your septic system. The SepticSmart program is a nation-wide initiative to share information on the proper care and maintenance of septic systems and encourage public stewardship in caring for these systems. For more information visit; www.epa.gov/septic. \nThe Department of Environment\, Great Lakes\, and Energy’s (EGLE) Onsite Wastewater Management Unit is kicking off SepticSmart Week with this 1-hour webinar\, which will be recorded. \nWhile this event is targeted to homeowners served by a septic system\, all interested persons are welcomed to attend. Mark your calendar and register today! \nAfter registering\, you will receive an email from “EGLE-Events” with a link for you to use to join the webinar.
URL:https://miwaterstewardship.org/event/septicsmart-2024-septic-system-101/
LOCATION:Online Webinar
CATEGORIES:Webinars
ATTACH;FMTTYPE=image/jpeg:https://miwaterstewardship.org/wp-content/uploads/2024/08/SepticSmart-2024.jpg
ORGANIZER;CN="EGLE":MAILTO:EGLE-Assist@Michigan.gov
END:VEVENT
BEGIN:VEVENT
DTSTART;TZID=America/Detroit:20240912T090000
DTEND;TZID=America/Detroit:20240912T100000
DTSTAMP:20260419T211655
CREATED:20240829T155412Z
LAST-MODIFIED:20240829T155412Z
UID:10000401-1726131600-1726135200@miwaterstewardship.org
SUMMARY:Understanding Red Swamp Crayfish Spread in Southeastern Michigan
DESCRIPTION:Invasive red swamp crayfish are found in small ponds and drainages in southeastern Michigan\, in areas with a high potential for spread to nearby bodies of water. Dr. Jared Homola of the USGS Wisconsin Cooperative Fishery Research Unit will discuss a project in collaboration with Michigan State University and the Michigan DNR using cutting-edge genetic tools to identify the biological and environmental factors that could lead to the crayfish’s spread. Understanding these factors is helping inform development of strategies to assess the risks posed by red swamp crayfish and ultimately control or eradicate them in Michigan. \nAfter registering\, you will receive an email from “EGLE Outreach” with a link for you to use to join the webinar. \nRegister for this free webinar HERE.
URL:https://miwaterstewardship.org/event/understanding-red-swamp-crayfish-spread-in-southeastern-michigan/
LOCATION:Online Webinar
CATEGORIES:Invasive Species,Webinars
ATTACH;FMTTYPE=image/png:https://miwaterstewardship.org/wp-content/uploads/2024/05/NotMISpecies-FB-Image.png
ORGANIZER;CN="EGLE":MAILTO:EGLE-Assist@Michigan.gov
END:VEVENT
BEGIN:VEVENT
DTSTART;TZID=America/Detroit:20240625T090000
DTEND;TZID=America/Detroit:20240625T100000
DTSTAMP:20260419T211655
CREATED:20240613T135032Z
LAST-MODIFIED:20240613T135032Z
UID:10000373-1719306000-1719309600@miwaterstewardship.org
SUMMARY:Empowering Students to Take Action on Invasive Species
DESCRIPTION:If you’re looking for a successful model for infusing invasive species education in the classroom\, Lake Superior State University’s Beth Christiansen has one. “Invading Classrooms: Empowering Students to Take Action on Invasive Species” brings together students\, teachers\, natural resource mentors\, and staff from LSSU’s Center for Freshwater Research and Education to conduct hands-on research into local invasive species issues. Join Christiansen to learn how this collaboration has fostered local\, student-led stewardship projects to raise awareness and inspire action in communities across Northern Michigan. \nTo register\, visit https://us06web.zoom.us/webinar/register/WN_QtlLJOibT4OM1aQbBfeU6Q#/registration.
URL:https://miwaterstewardship.org/event/empowering-students-to-take-action-on-invasive-species/
LOCATION:Online Webinar
CATEGORIES:Webinars
ATTACH;FMTTYPE=image/png:https://miwaterstewardship.org/wp-content/uploads/2024/05/NotMISpecies-FB-Image.png
ORGANIZER;CN="EGLE":MAILTO:EGLE-Assist@Michigan.gov
END:VEVENT
BEGIN:VEVENT
DTSTART;TZID=America/Detroit:20240521T090000
DTEND;TZID=America/Detroit:20240521T100000
DTSTAMP:20260419T211655
CREATED:20240513T185051Z
LAST-MODIFIED:20240513T185051Z
UID:10000368-1716282000-1716285600@miwaterstewardship.org
SUMMARY:EGLE Webinar- Containing the First Hydrilla Infestation in Michigan
DESCRIPTION:The mythic Hydra was a water serpent that sprouted two heads for every one cut off. In a similar fashion\, hydrilla – said to be the most invasive aquatic plant in the world – can grow new plants from stem fragments\, making it a formidable challenge to control. That challenge now faces Michigan\, where hydrilla was recently detected for the first time. Join Billy Keiper from EGLE Water Resources Division to find out why hydrilla is such a threat\, how the Michigan Invasive Species Program is working to eradicate it\, and what you can do to help identify and report it. \nREGISTER HERE.
URL:https://miwaterstewardship.org/event/egle-webinar-containing-the-first-hydrilla-infestation-in-michigan/
LOCATION:Online Webinar
ATTACH;FMTTYPE=image/png:https://miwaterstewardship.org/wp-content/uploads/2024/05/NotMISpecies-FB-Image.png
ORGANIZER;CN="EGLE":MAILTO:EGLE-Assist@Michigan.gov
END:VEVENT
BEGIN:VEVENT
DTSTART;TZID=America/Detroit:20221005T110000
DTEND;TZID=America/Detroit:20221005T120000
DTSTAMP:20260419T211655
CREATED:20220928T170157Z
LAST-MODIFIED:20220928T170157Z
UID:10000259-1664967600-1664971200@miwaterstewardship.org
SUMMARY:EGLE presents educational webinar series on Lake Erie algal blooms
DESCRIPTION:Because knowledge is power\, EGLE will present an educational webinar series\, “Taking Action on Lake Erie\,” to take an inside look at ways the state and partners are working together to enhance stewardship of the land and improve water quality in Michigan’s portion of the Western Lake Erie Basin. \nThe series begins with a session 11 a.m.-noon Wednesday\, Oct. 5\, highlighting agriculture inventory planning and implementation in the Western Lake Erie Basin led by EGLE’s Nonpoint Source Program and implemented by local conservation districts. \nThe agricultural inventory process utilizes modeling\, desktop analysis\, and a field inventory to collect site-specific data to locate and prioritize agricultural sites that have the potential to impact water quality. The goal is to implement agricultural best management practices on sites with the greatest potential to reduce phosphorus loading and improve water quality. This is an opportunity for the public\, agency partners\, and anyone who wants to know what Michigan is doing to reduce nutrient loading to Lake Erie. \nInformation and registration are available on the event website. Questions about the webinar may be directed to Michelle Selzer\, Lake Erie coordinator in EGLE’s Water Resources Division\, at SelzerM@Michigan.gov. Questions about registration may be directed to training and outreach coordinators Alana Berthold\, BertholdA@Michigan.gov\, or Joel Roseberry\, RoseberryJ@Michigan.gov.
URL:https://miwaterstewardship.org/event/egle-presents-educational-webinar-series-on-lake-erie-algal-blooms/
LOCATION:virtual
ORGANIZER;CN="EGLE":MAILTO:EGLE-Assist@Michigan.gov
END:VEVENT
BEGIN:VEVENT
DTSTART;TZID=America/Detroit:20220604T080000
DTEND;TZID=America/Detroit:20220612T170000
DTSTAMP:20260419T211655
CREATED:20220509T181831Z
LAST-MODIFIED:20220509T181831Z
UID:10000249-1654329600-1655053200@miwaterstewardship.org
SUMMARY:Great Lakes and Freshwater Week
DESCRIPTION:Each year\, Michigan proclaims this week as an opportunity to raise awareness of the Great Lakes and Michigan’s inland lakes\, rivers\, streams and groundwater. It’s a time to trumpet the importance of these water bodies and their immeasurable value to quality of life throughout the state. Michigan is known around the world for this unique resource\, which people can help preserve in the face of climate change and other challenges. \nBy raising awareness\, we will inspire people to protect and be champions of the Great Lakes and fresh water. Our call to action is for residents around the state to enjoy\, appreciate\, and safeguard this vital resource for current and future generations. \nWill you paddle along a water trail or join an Adopt-a-Beach team for a local cleanup? Maybe you can collect plastics as you stroll along the shore\, or clear litter from storm catch basins in your neighborhood. What will you do to be a Great Lakes Champion? \nWhat will you do to be a Great Lakes Champion? Share your photos\, actions\, and stories on social media with #MiGreatLakesWeek.
URL:https://miwaterstewardship.org/event/great-lakes-and-freshwater-week/
LOCATION:Online Webinar
ORGANIZER;CN="EGLE":MAILTO:EGLE-Assist@Michigan.gov
END:VEVENT
END:VCALENDAR