BEGIN:VCALENDAR
VERSION:2.0
PRODID:-//MI Water Stewardship - ECPv6.15.20//NONSGML v1.0//EN
CALSCALE:GREGORIAN
METHOD:PUBLISH
X-ORIGINAL-URL:https://miwaterstewardship.org
X-WR-CALDESC:Events for MI Water Stewardship
REFRESH-INTERVAL;VALUE=DURATION:PT1H
X-Robots-Tag:noindex
X-PUBLISHED-TTL:PT1H
BEGIN:VTIMEZONE
TZID:America/Detroit
BEGIN:DAYLIGHT
TZOFFSETFROM:-0500
TZOFFSETTO:-0400
TZNAME:EDT
DTSTART:20220313T070000
END:DAYLIGHT
BEGIN:STANDARD
TZOFFSETFROM:-0400
TZOFFSETTO:-0500
TZNAME:EST
DTSTART:20221106T060000
END:STANDARD
BEGIN:DAYLIGHT
TZOFFSETFROM:-0500
TZOFFSETTO:-0400
TZNAME:EDT
DTSTART:20230312T070000
END:DAYLIGHT
BEGIN:STANDARD
TZOFFSETFROM:-0400
TZOFFSETTO:-0500
TZNAME:EST
DTSTART:20231105T060000
END:STANDARD
BEGIN:DAYLIGHT
TZOFFSETFROM:-0500
TZOFFSETTO:-0400
TZNAME:EDT
DTSTART:20240310T070000
END:DAYLIGHT
BEGIN:STANDARD
TZOFFSETFROM:-0400
TZOFFSETTO:-0500
TZNAME:EST
DTSTART:20241103T060000
END:STANDARD
BEGIN:DAYLIGHT
TZOFFSETFROM:-0500
TZOFFSETTO:-0400
TZNAME:EDT
DTSTART:20250309T070000
END:DAYLIGHT
BEGIN:STANDARD
TZOFFSETFROM:-0400
TZOFFSETTO:-0500
TZNAME:EST
DTSTART:20251102T060000
END:STANDARD
BEGIN:DAYLIGHT
TZOFFSETFROM:-0500
TZOFFSETTO:-0400
TZNAME:EDT
DTSTART:20260308T070000
END:DAYLIGHT
BEGIN:STANDARD
TZOFFSETFROM:-0400
TZOFFSETTO:-0500
TZNAME:EST
DTSTART:20261101T060000
END:STANDARD
END:VTIMEZONE
BEGIN:VEVENT
DTSTART;TZID=America/Detroit:20250503T090000
DTEND;TZID=America/Detroit:20250503T170000
DTSTAMP:20260422T173545
CREATED:20250424T175440Z
LAST-MODIFIED:20250424T175440Z
UID:10000515-1746262800-1746291600@miwaterstewardship.org
SUMMARY:CRWC Adopt-A-Stream Event
DESCRIPTION:Adopt-A-Stream is a volunteer-based initiative that empowers community members to protect local streams and rivers by monitoring water quality. Volunteers are trained\, teamed-up\, assigned sites\, given equipment and data sheets then sent out into the field to gather information on streamside habitats\, physical characteristics\, and aquatic insect populations. \nEach team will receive its own time and location and team leaders will pick up kits from the CRWC office before the event. Participants who do not have a team should contact Lydia (lydia@crwc.org) or Mikela (mikela@crwc.org) at least one week in advance of the event. \nNew participants should attend one of our trainings – click here for more information. \nRegister HERE.
URL:https://miwaterstewardship.org/event/crwc-adopt-a-stream-event/
LOCATION:Clinton River Watershed Council\, 1115 West Avon Road\, Rochester Hills\, MI\, 48309
CATEGORIES:Stream Monitoring
ATTACH;FMTTYPE=image/jpeg:https://miwaterstewardship.org/wp-content/uploads/2025/04/CRWC-Adopt-a-Stream-2025.jpg
ORGANIZER;CN="Clinton River Watershed Council":MAILTO:contact@crwc.org
END:VEVENT
BEGIN:VEVENT
DTSTART;TZID=America/Detroit:20250307T163000
DTEND;TZID=America/Detroit:20250307T173000
DTSTAMP:20260422T173545
CREATED:20250305T191112Z
LAST-MODIFIED:20250305T191112Z
UID:10000472-1741365000-1741368600@miwaterstewardship.org
SUMMARY:Kids Protecting Freshwater
DESCRIPTION:We use water each and every day\, and we all play a part in protecting it. Join Clinton River Watershed Council as we dive into which creatures live in our backyards\, where our water goes\, and how kids can be powerful water warriors! \nThe educational presentation is free and open to the public. It is best for ages 7-14. \nClick here to register.
URL:https://miwaterstewardship.org/event/kids-protecting-freshwater/
LOCATION:Clinton-Macomb Public Library North Branch\, 54100 Broughton Rd\, Macomb\, MI\, 48042\, United States
CATEGORIES:Workshop
ATTACH;FMTTYPE=image/jpeg:https://miwaterstewardship.org/wp-content/uploads/2025/03/CRWC-Kids-Protecting-Freshwater.jpg
ORGANIZER;CN="Clinton River Watershed Council":MAILTO:contact@crwc.org
END:VEVENT
BEGIN:VEVENT
DTSTART;TZID=America/Detroit:20250303T180000
DTEND;TZID=America/Detroit:20250303T193000
DTSTAMP:20260422T173545
CREATED:20250226T154641Z
LAST-MODIFIED:20250303T174733Z
UID:10000470-1741024800-1741030200@miwaterstewardship.org
SUMMARY:Get to Know Your Watershed
DESCRIPTION:Join CRWC at Orion Township Public Library for an introduction to the Clinton River watershed. We’ll explore the region’s geological history\, land use changes through time\, and what the watershed looks like today. You’ll learn about what work is being done now\, the biggest threats to water quality and more. \nThis educational presentation is free and open to the public.Click here to register.
URL:https://miwaterstewardship.org/event/get-to-know-your-watershed/
LOCATION:Orion Township Library\, 825 Joslyn Rd\, Lake Orion\, MI\, 48362\, United States
CATEGORIES:Educational Outreach
ATTACH;FMTTYPE=image/jpeg:https://miwaterstewardship.org/wp-content/uploads/2025/02/CRWC-Map.jpg
ORGANIZER;CN="Clinton River Watershed Council":MAILTO:contact@crwc.org
END:VEVENT
BEGIN:VEVENT
DTSTART;TZID=America/Detroit:20250201T090000
DTEND;TZID=America/Detroit:20250201T130000
DTSTAMP:20260422T173545
CREATED:20241223T193046Z
LAST-MODIFIED:20241223T193046Z
UID:10000422-1738400400-1738414800@miwaterstewardship.org
SUMMARY:Clinton River Watershed Council Stonefly Search
DESCRIPTION:Winter stoneflies (Capniidae and Taeniopterygidae) are important biotic indicators of water quality. Their increasing numbers are one way we can tell that water quality has greatly improved from historical conditions in the early and mid-1900’s. \nThese stoneflies have natural anti-freeze in their blood\, so they are able to remain active in the winter months. Reproducing in the winter allows them to avoid many predators and increase their chance of surviving into adulthood. Stonefly nymphs are extremely sensitive to water pollution and develop in cool\, well-oxygenated water. The presence of stoneflies is an indicator of good water quality\, and their absence in areas where they previously occurred may indicate pollution. \nThe Search – Each winter\, teams of volunteers canvass winter stonefly populations at locations along the Clinton River and its tributaries. This fun and educational event is free\, family-friendly\, and open to the public – no experience required! \nHow It Works – Volunteers all meet at the Clinton River Watershed Council office at 9:00 a.m. on February 1st. Based on previous experience\, volunteers will receive a short training or team leader refresher to prepare for the search. \nLed by Team Leaders\, volunteers will split into teams to survey sites throughout the watershed to look for this thriving cold-weather creature. Team Leaders help their groups coordinate and follow site procedures to ensure that stonefly data is being collected safely and consistently. \nRegister HERE.
URL:https://miwaterstewardship.org/event/clinton-river-watershed-council-stonefly-search-2/
LOCATION:Clinton River Watershed Council\, 1115 West Avon Road\, Rochester Hills\, MI\, 48309
CATEGORIES:Stream Monitoring
ATTACH;FMTTYPE=image/jpeg:https://miwaterstewardship.org/wp-content/uploads/2024/12/CRWC-Stonefly-Search.jpg
ORGANIZER;CN="Clinton River Watershed Council":MAILTO:contact@crwc.org
END:VEVENT
BEGIN:VEVENT
DTSTART;TZID=America/Detroit:20250115T180000
DTEND;TZID=America/Detroit:20250115T190000
DTSTAMP:20260422T173545
CREATED:20241212T180726Z
LAST-MODIFIED:20241212T180726Z
UID:10000413-1736964000-1736967600@miwaterstewardship.org
SUMMARY:Clinton River Watershed Council River Rally
DESCRIPTION:The Clinton River Watershed Council (CRWC) is excited to invite you to our annual River Rally\, on January 15\, 2025! As part of the Clinton River Coldwater Conservation Project (CRCCP)\, CRWC hosts a kick-off for the upcoming volunteer season\, offering a presentation on 2024’s Adopt-A-Stream monitoring results\, CRWC’s field season updates\, CRCCP accomplishments\, and volunteer opportunities for the new year.  \nJoin us to celebrate CRWC’s volunteers\, sponsors\, partners\, and teams of dedicated individuals who are passionate about protecting the region’s coldwater tributaries. The work done throughout the watershed could not have been accomplished without the help of our many amazing volunteers. From habitat restoration work to trash cleanups with the Keeping-It-Clean crew\, to water quality data collection for Adopt-A-Stream\, we want to celebrate the efforts of our volunteers and share the results of the work completed in 2024. \nTo register for this free online celebration\, visit CRWC HERE.
URL:https://miwaterstewardship.org/event/clinton-river-watershed-council-river-rally/
LOCATION:Online Webinar
CATEGORIES:Celebration
ATTACH;FMTTYPE=image/png:https://miwaterstewardship.org/wp-content/uploads/2024/05/CRWC_Horizontal_Logo.png
ORGANIZER;CN="Clinton River Watershed Council":MAILTO:contact@crwc.org
END:VEVENT
BEGIN:VEVENT
DTSTART;TZID=America/Detroit:20240615T090000
DTEND;TZID=America/Detroit:20240615T120000
DTSTAMP:20260422T173545
CREATED:20240523T164418Z
LAST-MODIFIED:20240613T140802Z
UID:10000372-1718442000-1718452800@miwaterstewardship.org
SUMMARY:CRWC Cleanup on the Clinton with Representative Mentzer
DESCRIPTION:A Bi-Partisan River Clean-Up Event Hosted by Michigan Representative Mentzer and the Clinton River Watershed Council \nJoin CRWC\, Representative Mentzer\, and Representative Aragona for a bi-partisan effort to improve local parks\, community trails\, and the Clinton River. By participating in cleanups\, we prevent pollutants from entering our rivers and streams\, ensuring the cleanliness of our waterways and preserving the natural beauty of our surroundings. \nThis clean-up is open to individuals of all skill levels and encourages everyone\, from residents to community leaders\, to get involved directly in improving the health and natural beauty of the watershed. \nVolunteers will be given supplies and broken into teams to take part in clean-up efforts in the park and in the river. \nGloves\, trash bags\, grabbers\, and other equipment will be provided to volunteers. Feel free to bring your own gloves and a water bottle. Wear comfortable clothes and sturdy footwear.  If you intend to participate in the river cleanup\, wear clothes that can get wet. \nRegistration is required for this event and will close on June 14\, 2024\, at noon.  To register\, visit https://www.surveymonkey.com/r/clean-up-collaboration.
URL:https://miwaterstewardship.org/event/crwc-cleanup-on-the-clinton-with-representative-mentzer/
LOCATION:George George Memorial Park\, 40500 Moravian Dr\, Clinton Twp\, MI\, 48036\, United States
CATEGORIES:River Clean Up
ATTACH;FMTTYPE=image/png:https://miwaterstewardship.org/wp-content/uploads/2024/05/CRWC_Horizontal_Logo.png
ORGANIZER;CN="Clinton River Watershed Council":MAILTO:contact@crwc.org
END:VEVENT
BEGIN:VEVENT
DTSTART;TZID=America/Detroit:20240217T090000
DTEND;TZID=America/Detroit:20240217T123000
DTSTAMP:20260422T173545
CREATED:20231211T195926Z
LAST-MODIFIED:20231211T195926Z
UID:10000348-1708160400-1708173000@miwaterstewardship.org
SUMMARY:Clinton River Watershed Council Stonefly Search
DESCRIPTION:Winter stoneflies (Capniidae and Taeniopterygidae) are important biotic indicators of water quality. Their increasing numbers are one way we can tell that water quality has greatly improved from historical conditions in the early and mid-1900’s. \nThese stoneflies have natural anti-freeze in their blood\, so they are able to remain active in the winter months. Reproducing in the winter allows them to avoid many predators and increase their chance of surviving into adulthood. Stonefly nymphs are extremely sensitive to water pollution and develop in cool\, well-oxygenated water. The presence of stoneflies is an indicator of good water quality\, and their absence in areas where they previously occurred may indicate pollution. \nThe Search – Each winter\, teams of volunteers canvass winter stonefly populations at locations along the Clinton River and its tributaries. This fun and educational event is free\, family-friendly\, and open to the public – no experience required! \nHOW IT WORKS\nVolunteers all meet at the Clinton River Watershed Council office at 9:00 a.m. on February 17th. Based on previous experience\, volunteers will receive a short training or team leader refresher to prepare for the search. \nLed by Team Leaders\, volunteers will split into teams to survey sites throughout the watershed to look for this thriving cold-weather creature. Team Leaders help their groups coordinate and follow site procedures to ensure that stonefly data is being collected safely and consistently. \nTHE STONEFLY SEARCH CONSISTS OF: \n\nEnjoying the water in cold weather\nCollecting samples from the river using a net\nFinding macroinvertebrates in the samples\n\nTo register\, visit www.crwc.org/events/stonefly-search.
URL:https://miwaterstewardship.org/event/clinton-river-watershed-council-stonefly-search/
LOCATION:Clinton River Watershed Council\, 1115 West Avon Road\, Rochester Hills\, MI\, 48309
ATTACH;FMTTYPE=image/jpeg:https://miwaterstewardship.org/wp-content/uploads/2023/12/CRWC-Stonefly-Search.jpg
ORGANIZER;CN="Clinton River Watershed Council":MAILTO:contact@crwc.org
END:VEVENT
BEGIN:VEVENT
DTSTART;TZID=America/Detroit:20240110T190000
DTEND;TZID=America/Detroit:20240110T200000
DTSTAMP:20260422T173545
CREATED:20231130T170049Z
LAST-MODIFIED:20231130T170049Z
UID:10000346-1704913200-1704916800@miwaterstewardship.org
SUMMARY:Clinton River Watershed Council 2024 River Rally
DESCRIPTION:The Clinton River Watershed Council (CRWC) is excited to invite you to our annual River Rally\, on January 10\, 2024! As part of the Clinton River Coldwater Conservation Project (CRCCP)\, CRWC hosts a kick-off for the upcoming volunteer season\, offering a presentation on 2023’s Adopt-A-Stream monitoring results\, CRWC’s field season updates\, CRCCP accomplishments\, and volunteer opportunities for the new year.  \nJoin us to celebrate CRWC’s volunteers\, sponsors\, partners\, and teams of dedicated individuals who are passionate about protecting the region’s coldwater tributaries. The work done throughout the watershed could not have been accomplished without the help of our many amazing volunteers. From habitat restoration work to trash cleanups with the Keeping-It-Clean crew\, to water quality data collection for Adopt-A-Stream\, we want to celebrate the efforts of our volunteers and share the results of the work completed in 2023. \nPROGRAM INCLUDES:\n\n2023 Accomplishments\n2023 Data Deep Dive\n2024 Volunteer Opportunities\n\nTune in to CRWC’s River Rally webinar for early access to the site-by-site results of Adopt-A-Stream data collection from the Spring and Fall of 2023\, including data trends\, macroinvertebrates found\, and volunteer observations from the field. CRWC’s Watershed Ecologist\, Mikela Dean\, and Environmental Scientist\, Lydia Nicholas\, will share what this data means for water quality in the Clinton River\, and how that affects our priorities for monitoring in the future. \nThis presentation is FREE to attend! \nTo register\, visit www.crwc.org/Events/volunteer/river-rally/2024-river-rally/3148.
URL:https://miwaterstewardship.org/event/clinton-river-watershed-council-2024-river-rally/
LOCATION:Online Webinar
ATTACH;FMTTYPE=image/jpeg:https://miwaterstewardship.org/wp-content/uploads/2023/11/2024-CRWC-River-Rally-scaled.jpg
ORGANIZER;CN="Clinton River Watershed Council":MAILTO:contact@crwc.org
END:VEVENT
BEGIN:VEVENT
DTSTART;TZID=America/Detroit:20230628T100000
DTEND;TZID=America/Detroit:20230628T120000
DTSTAMP:20260422T173545
CREATED:20230516T134434Z
LAST-MODIFIED:20230516T135044Z
UID:10000299-1687946400-1687953600@miwaterstewardship.org
SUMMARY:Weekly Clean - Friendship Park
DESCRIPTION:Weekly Clean occurs every Wednesday from April-November. Locations will be posted online in advance (prior registration is not required\, unless a large group plans on attending). Weekly Cleans are open to individuals of all ages and skill levels.\nWeekly Clean will be canceled if conditions are deemed unsafe due to weather or if the temperature is below 20°F. The schedule and locations of clean-ups are updated on a monthly basis. Make sure to check https://www.crwc.org/events/volunteer/keeping-it-clean\, social media\, and your email to keep up to date with the latest Weekly Clean info. Cancellations will be announced 24 hours prior to the event on our website and social media whenever possible. Inclement weather can roll in without notice though. Please call the CRWC office (248) 601-0606 if you have questions about Weekly Clean
URL:https://miwaterstewardship.org/event/weekly-clean-friendship-park/
LOCATION:friendship park\, 3380 Clarkston Rd\, Lake Orion\, MI\, 48362\, United States
ORGANIZER;CN="Clinton River Watershed Council":MAILTO:contact@crwc.org
END:VEVENT
END:VCALENDAR