BEGIN:VCALENDAR
VERSION:2.0
PRODID:-//MI Water Stewardship - ECPv6.15.20//NONSGML v1.0//EN
CALSCALE:GREGORIAN
METHOD:PUBLISH
X-ORIGINAL-URL:https://miwaterstewardship.org
X-WR-CALDESC:Events for MI Water Stewardship
REFRESH-INTERVAL;VALUE=DURATION:PT1H
X-Robots-Tag:noindex
X-PUBLISHED-TTL:PT1H
BEGIN:VTIMEZONE
TZID:America/Detroit
BEGIN:DAYLIGHT
TZOFFSETFROM:-0500
TZOFFSETTO:-0400
TZNAME:EDT
DTSTART:20240310T070000
END:DAYLIGHT
BEGIN:STANDARD
TZOFFSETFROM:-0400
TZOFFSETTO:-0500
TZNAME:EST
DTSTART:20241103T060000
END:STANDARD
BEGIN:DAYLIGHT
TZOFFSETFROM:-0500
TZOFFSETTO:-0400
TZNAME:EDT
DTSTART:20250309T070000
END:DAYLIGHT
BEGIN:STANDARD
TZOFFSETFROM:-0400
TZOFFSETTO:-0500
TZNAME:EST
DTSTART:20251102T060000
END:STANDARD
BEGIN:DAYLIGHT
TZOFFSETFROM:-0500
TZOFFSETTO:-0400
TZNAME:EDT
DTSTART:20260308T070000
END:DAYLIGHT
BEGIN:STANDARD
TZOFFSETFROM:-0400
TZOFFSETTO:-0500
TZNAME:EST
DTSTART:20261101T060000
END:STANDARD
END:VTIMEZONE
BEGIN:VEVENT
DTSTART;TZID=America/Detroit:20250130T120000
DTEND;TZID=America/Detroit:20250130T130000
DTSTAMP:20260424T021649
CREATED:20250116T145403Z
LAST-MODIFIED:20250116T145403Z
UID:10000434-1738238400-1738242000@miwaterstewardship.org
SUMMARY:Winter Waterfowl Webinar: Geese and Swans
DESCRIPTION:Winter is officially weird duck time as dozens of waterfowl species descend upon the Great Lakes\, filling areas of open water with their quirks and quacks\, making it an excellent time to go birding! Join MI Birds\, an outreach program from Audubon Great Lakes and Michigan Department of Natural Resources for a free lunch-hour webinar to learn about the geese and swans of Michigan and the Great Lakes region. \nIn the second installment of this series\, learn how to identify geese and swans\, where to spot them\, the habitats they rely on to thrive\, and learn about conservation efforts across Michigan and beyond. Check out part one. \nPresenters will include: \n\nJohn Coluccy\, Ph.D.\, Director of Conservation Planning for Ducks Unlimited\nKylie McElrath\, Conservation Manager for Audubon Great Lakes\nPatrick Doran\, Ph.D.\, Midwest Director of Strategy\, Measures and Science for The Nature Conservancy\n\nRSVP today!
URL:https://miwaterstewardship.org/event/winter-waterfowl-webinar-geese-and-swans/
LOCATION:Online Webinar
CATEGORIES:Webinars
ATTACH;FMTTYPE=image/png:https://miwaterstewardship.org/wp-content/uploads/2025/01/Trumpeter-Swan.png
END:VEVENT
END:VCALENDAR