BEGIN:VCALENDAR
VERSION:2.0
PRODID:-//MI Water Stewardship - ECPv6.15.20//NONSGML v1.0//EN
CALSCALE:GREGORIAN
METHOD:PUBLISH
X-ORIGINAL-URL:https://miwaterstewardship.org
X-WR-CALDESC:Events for MI Water Stewardship
REFRESH-INTERVAL;VALUE=DURATION:PT1H
X-Robots-Tag:noindex
X-PUBLISHED-TTL:PT1H
BEGIN:VTIMEZONE
TZID:America/Detroit
BEGIN:DAYLIGHT
TZOFFSETFROM:-0500
TZOFFSETTO:-0400
TZNAME:EDT
DTSTART:20240310T070000
END:DAYLIGHT
BEGIN:STANDARD
TZOFFSETFROM:-0400
TZOFFSETTO:-0500
TZNAME:EST
DTSTART:20241103T060000
END:STANDARD
BEGIN:DAYLIGHT
TZOFFSETFROM:-0500
TZOFFSETTO:-0400
TZNAME:EDT
DTSTART:20250309T070000
END:DAYLIGHT
BEGIN:STANDARD
TZOFFSETFROM:-0400
TZOFFSETTO:-0500
TZNAME:EST
DTSTART:20251102T060000
END:STANDARD
BEGIN:DAYLIGHT
TZOFFSETFROM:-0500
TZOFFSETTO:-0400
TZNAME:EDT
DTSTART:20260308T070000
END:DAYLIGHT
BEGIN:STANDARD
TZOFFSETFROM:-0400
TZOFFSETTO:-0500
TZNAME:EST
DTSTART:20261101T060000
END:STANDARD
END:VTIMEZONE
BEGIN:VEVENT
DTSTART;TZID=America/Detroit:20250331T130000
DTEND;TZID=America/Detroit:20250331T140000
DTSTAMP:20260423T141621
CREATED:20250313T184106Z
LAST-MODIFIED:20250327T161025Z
UID:10000476-1743426000-1743429600@miwaterstewardship.org
SUMMARY:Rare Peatland Insects of Michigan
DESCRIPTION:Fresh off the first year of a tri-state project surveying for rare peatland insects in Michigan we will present the preliminary highlights and “lowlights” from the field season. In addition\, we will provide an overview of the Species of Greatest Conservation Need (SGCN) that call peatlands home. Range\, conservation rank\, and habitat requirements or host plant needs for each of the SGCN will be presented. \nPresenters: David Cuthrell and Logan Rowe\, Michigan Natural Features Inventory \nDavid is a Conservation Scientist with MNFI. He conducts rare species surveys and environmental reviews. His research and monitoring studies inform conservation and implementation of Michigan’s Wildlife Action Plan. Logan is a Conservation Associate with MNFI. His work specializes in Michigan’s rare and declining insects. \nRegister HERE.
URL:https://miwaterstewardship.org/event/rare-peatland-insects-of-michigan/
LOCATION:Online Webinar
CATEGORIES:Michigan Wildlife,Webinars
ATTACH;FMTTYPE=image/jpeg:https://miwaterstewardship.org/wp-content/uploads/2025/03/Michigan-Wetlands-Association.jpg
ORGANIZER;CN="Michigan Wetlands Association":MAILTO:mwa@miwetlands.org
END:VEVENT
END:VCALENDAR