BEGIN:VCALENDAR
VERSION:2.0
PRODID:-//MI Water Stewardship - ECPv6.15.20//NONSGML v1.0//EN
CALSCALE:GREGORIAN
METHOD:PUBLISH
X-ORIGINAL-URL:https://miwaterstewardship.org
X-WR-CALDESC:Events for MI Water Stewardship
REFRESH-INTERVAL;VALUE=DURATION:PT1H
X-Robots-Tag:noindex
X-PUBLISHED-TTL:PT1H
BEGIN:VTIMEZONE
TZID:America/Detroit
BEGIN:DAYLIGHT
TZOFFSETFROM:-0500
TZOFFSETTO:-0400
TZNAME:EDT
DTSTART:20230312T070000
END:DAYLIGHT
BEGIN:STANDARD
TZOFFSETFROM:-0400
TZOFFSETTO:-0500
TZNAME:EST
DTSTART:20231105T060000
END:STANDARD
BEGIN:DAYLIGHT
TZOFFSETFROM:-0500
TZOFFSETTO:-0400
TZNAME:EDT
DTSTART:20240310T070000
END:DAYLIGHT
BEGIN:STANDARD
TZOFFSETFROM:-0400
TZOFFSETTO:-0500
TZNAME:EST
DTSTART:20241103T060000
END:STANDARD
BEGIN:DAYLIGHT
TZOFFSETFROM:-0500
TZOFFSETTO:-0400
TZNAME:EDT
DTSTART:20250309T070000
END:DAYLIGHT
BEGIN:STANDARD
TZOFFSETFROM:-0400
TZOFFSETTO:-0500
TZNAME:EST
DTSTART:20251102T060000
END:STANDARD
BEGIN:DAYLIGHT
TZOFFSETFROM:-0500
TZOFFSETTO:-0400
TZNAME:EDT
DTSTART:20260308T070000
END:DAYLIGHT
BEGIN:STANDARD
TZOFFSETFROM:-0400
TZOFFSETTO:-0500
TZNAME:EST
DTSTART:20261101T060000
END:STANDARD
BEGIN:DAYLIGHT
TZOFFSETFROM:-0500
TZOFFSETTO:-0400
TZNAME:EDT
DTSTART:20270314T070000
END:DAYLIGHT
BEGIN:STANDARD
TZOFFSETFROM:-0400
TZOFFSETTO:-0500
TZNAME:EST
DTSTART:20271107T060000
END:STANDARD
END:VTIMEZONE
BEGIN:VEVENT
DTSTART;TZID=America/Detroit:20260417T140000
DTEND;TZID=America/Detroit:20260417T143000
DTSTAMP:20260421T044518
CREATED:20260415T173019Z
LAST-MODIFIED:20260415T173019Z
UID:10000669-1776434400-1776436200@miwaterstewardship.org
SUMMARY:Suttons Bay - Inland Seas Campus Lakefront Cleanup
DESCRIPTION:This event is occurring in partnership with the Alliance for the Great Lakes. \nHelp keep our Great Lakes shorelines healthy and beautiful! We will be working at the Captain Thomas M. Kelly Biological Station campus lakefront! Please bring a reusable water bottle\, weather-appropriate clothing\, a 5-gallon bucket\, and/or paper grocery bags with handles. \nRegister HERE.
URL:https://miwaterstewardship.org/event/suttons-bay-inland-seas-campus-lakefront-cleanup/
LOCATION:Capt. Thomas M. Kelly Biological Station and Campus\, 100 Dame St\, Suttons Bay\, MI\, 49682\, United States
CATEGORIES:Beach Clean Up
ATTACH;FMTTYPE=image/jpeg:https://miwaterstewardship.org/wp-content/uploads/2026/01/Alliance-for-the-Great-Lakes-Logo.jpg
ORGANIZER;CN="Inland Seas Education Association":MAILTO:isea@schoolship.org
END:VEVENT
BEGIN:VEVENT
DTSTART;VALUE=DATE:20240921
DTEND;VALUE=DATE:20240922
DTSTAMP:20260421T044518
CREATED:20240829T135425Z
LAST-MODIFIED:20240829T135425Z
UID:10000397-1726876800-1726963199@miwaterstewardship.org
SUMMARY:September Adopt-a-Beach 2024
DESCRIPTION:Join us Saturday\, September 21\, 2024\, for a Great Lakes day of action! Thousands of Adopt-a-Beach volunteers will clean and celebrate Great Lakes shorelines as part of the International Coastal Cleanup. \nVolunteers on all five lakes and in each of the eight Great Lakes states will join volunteers all over the world who care for and take a stand for their local waters. \nFind a September Adopt-a-Beach cleanup now. \nIf you don’t see a cleanup that works for you\, become a Team Leader and set up one of your own.
URL:https://miwaterstewardship.org/event/september-adopt-a-beach-2024/
LOCATION:Multiple Locations\, MI\, United States
CATEGORIES:Beach Clean Up
ATTACH;FMTTYPE=image/png:https://miwaterstewardship.org/wp-content/uploads/2024/08/2024-Alliance-for-the-Great-Lakes-Adopt-a-Beach.png
ORGANIZER;CN="Alliance for the Great Lakes":MAILTO:alliance@greatlakes.org
END:VEVENT
END:VCALENDAR